BEGIN:VCALENDAR
VERSION:2.0
PRODID:-//wp-events-plugin.com//7.2.3.1//EN
TZID:Europe/Rome
X-WR-TIMEZONE:Europe/Rome
BEGIN:VEVENT
UID:36944@lazioeventi.com
DTSTART;TZID=Europe/Rome;VALUE=DATE:20230916
DTEND;TZID=Europe/Rome;VALUE=DATE:20230918
DTSTAMP:20230906T152825Z
URL:https://lazioeventi.com/eventi/la-domenica-del-borgo-serrone
SUMMARY:La Domenica del Borgo - Serrone - 16 Settembre 23 00:00
DESCRIPTION:Sabato 16 e domenica 17 Serrone regala un tuffo nel passato. \n
 \nCondividete con noi questa magia con il cambio della moneta\, il mercato
  delle tradizioni\, la cartomante\, l'accampamento dei briganti\, giochi d
 al sapore antico per bambini ed adulti\, laboratori\, musica popolare\, bu
 one pietanza e tanto altro
ATTACH;FMTTYPE=image/jpeg:https://lazioeventi.com/wp-content/uploads/2023/
 09/domenica-borgo.jpg
CATEGORIES:Sagre, Gastronomia e Tradizioni nel Lazio,Musica, Spettacoli e
 Danza nel Lazio
LOCATION:Serrone\, Comune\, Serrone\, Frosinone\, Lazio\, Italia
GEO:41.8407;13.0968
X-APPLE-STRUCTURED-LOCATION;VALUE=URI;X-ADDRESS=Comune\, Serrone\, Frosinon
 e\, Lazio\, Italia;X-APPLE-RADIUS=100;X-TITLE=Serrone:geo:41.8407,13.0968
END:VEVENT
BEGIN:VTIMEZONE
TZID:Europe/Rome
X-LIC-LOCATION:Europe/Rome
BEGIN:DAYLIGHT
DTSTART:20230326T030000
TZOFFSETFROM:+0100
TZOFFSETTO:+0200
TZNAME:CEST
END:DAYLIGHT
END:VTIMEZONE
END:VCALENDAR