BEGIN:VCALENDAR
VERSION:2.0
PRODID:-//wp-events-plugin.com//7.2.3.1//EN
TZID:Europe/Rome
X-WR-TIMEZONE:Europe/Rome
BEGIN:VEVENT
UID:43521@lazioeventi.com
DTSTART;TZID=Europe/Rome:20260110T180000
DTEND;TZID=Europe/Rome:20260110T200000
DTSTAMP:20260104T130152Z
URL:https://lazioeventi.com/eventi/la-favola-delle-tre-melarance
SUMMARY:La favola delle tre melarance - Veroli - 10 Gennaio 26 18:00
DESCRIPTION:L’epifania ha portato via le feste ma c’è un ultimo regalo
  per i bambini al Teatro Comunale Veroli: il secondo appuntamento della st
 agione “Andiamo ragazzi!”\, dedicata ai piccoli spettatori ma capace d
 i emozionare anche il pubblico degli adulti. Sabato 10 gennaio in scena 
 “La favola delle tre melarance”: la storia di un principe\, di un re\,
  di buffoni e saltimbanchi\, di maghi\, streghe e principesse\, una storia
  di intrighi\, magie e trasformazioni\, ma non solo una storia per i bambi
 ni. La pièce racconta magistralmente le contraddizioni della vita reale\,
  portandole su un piano fantastico e mettendo al centro della vicenda un p
 rincipe che non riesce più a ridere e che soltanto con un “maleficio”
  scopre il proprio destino e\, in un modo assai rocambolesco\, il proprio 
 potenziale. Il suo sogno lo porta verso luoghi ed emozioni\, pericoli e me
 raviglie centuplicati dal sentimento: cerca le melarance\, creature fantas
 tiche e meravigliose custodite dal crudele Creonte\, con la passione che c
 aratterizza ogni amore e ogni spinta del desiderio. Della favola delle tre
  Melarance in molti si sono innamorati attraverso i secoli: scrittori\, mu
 sicisti\, poeti e pittori\; il suo fascino\, i suoi misteri e le sue trova
 te burlesche hanno incantato grandi e piccini. Il Teatro Bertolt Brecht ha
  rielaborato la storia\, per il piacere del pubblico\, con la regia di Mau
 rizio Stammati: tre musicisti con i loro tanti suoni e strumenti tenterann
 o di raccontarvela a modo loro\, giocando e facendosi aiutare dalla magia 
 del teatro con luci\, scene\, costumi e maschere. Liberamente tratto dalla
  favola del Gozzi\, e prendendo in prestito l'uso musicale che ne fece Pro
 kof'ev su scrittura di Majerchol'd\, la compagnia è lieta di presentarvi 
 la sua versione.\n\nVi aspettiamo a teatro sabato 10 gennaio alle ore 18.0
 0\, con apertura botteghino alle 17.30\, per vivere insieme le emozioni ch
 e solo la fantasia e le storie piene di magia e avventura sanno dare.\n\nB
 IGLIETTO: € 10.00\n\nPer info e prenotazioni: 3513917931\n\nteatrocomuna
 leveroli2019@gmail.com
ATTACH;FMTTYPE=image/jpeg:https://lazioeventi.com/wp-content/uploads/2026/
 01/favola-tre-veroli.jpeg
CATEGORIES:Musica, Spettacoli e Danza nel Lazio
LOCATION:Veroli\, Comune di Veroli\, Veroli\, Frosinone\, Lazio\, Italia
GEO:41.6911;13.4178
X-APPLE-STRUCTURED-LOCATION;VALUE=URI;X-ADDRESS=Comune di Veroli\, Veroli\,
  Frosinone\, Lazio\, Italia;X-APPLE-RADIUS=100;X-TITLE=Veroli:geo:41.6911,
 13.4178
END:VEVENT
BEGIN:VTIMEZONE
TZID:Europe/Rome
X-LIC-LOCATION:Europe/Rome
BEGIN:STANDARD
DTSTART:20251026T020000
TZOFFSETFROM:+0200
TZOFFSETTO:+0100
TZNAME:CET
END:STANDARD
END:VTIMEZONE
END:VCALENDAR