BEGIN:VCALENDAR
VERSION:2.0
PRODID:-//wp-events-plugin.com//7.2.3.1//EN
TZID:Europe/Rome
X-WR-TIMEZONE:Europe/Rome
BEGIN:VEVENT
UID:30835@lazioeventi.com
DTSTART;TZID=Europe/Rome:20230511T103000
DTEND;TZID=Europe/Rome:20230514T230000
DTSTAMP:20230510T072302Z
URL:https://lazioeventi.com/eventi/la-festa-della-madonna-dei-matti
SUMMARY:La festa della Madonna dei Matti - Nepi - 11 Maggio 23 10:30
DESCRIPTION:La Festa dei Matti a Nepi da una tradizione lunga 400 anni: tra
  fede\, tradizione e tanto divertimento.\n\nQuando la tradizione si fa fes
 ta\, vuol dire che siamo in prossimità della “Festa dei Matti”\, uno 
 degli eventi più tipici e veraci della cittadina di Nepi\, in provincia d
 i Viterbo ma a pochi km da Roma.\n\nLa festa della “Madonna dei Matti”
  (alias “Madonna di Costantinopoli”)\, trae le sue origini ai primi an
 ni del ‘600\, quando due nobili nepesini fecero realizzare il quadro del
 la Madre di Dio\, che tutt’ora si venera nella bella Chiesa di San Giova
 nni Decollato. Da allora (ben 400 anni)\, la seconda domenica di maggio si
  svolge nella piazza di San Giovanni\, centro del pittoresco quartiere del
 la Ripa\, una stravagante festa\, fatta di religiosità\, tradizione popol
 are\, fede.\n\nLa Festa dei Matti a Nepi\, ogni seconda domenica di Maggio
 \n\nLa mattina la suggestiva “Processione dei Ceri”\, nella quale fanc
 iulli recano in dono per le vie del paese\, grandi candele decorate da fio
 ri.\nSi fa festa anche con il palato\, perché una festa che si rispetti\,
  coinvolge tutti i sensi\, ed ecco la stagionale proposta eno-gastronomica
 .\n\nE non dimenticate la maschera\, perché per andare alla Madonna dei M
 atti\, si deve indossare qualcosa di folle e stravagante. In fin dei conti
 \, si fa festa per la Vergine e perché è di nuovo primavera.
ATTACH;FMTTYPE=image/jpeg:https://lazioeventi.com/wp-content/uploads/2022/
 05/Festa-della-Madonna-dei-Matti-a-Nepi.jpg
CATEGORIES:Sport, Tempo Libero e Divertimento nel Lazio,Sagre, Gastronomia
 e Tradizioni nel Lazio
LOCATION:Nepi\, Comune\, Nepi\, Viterbo\, Lazio\, Italia
GEO:42.2424;12.3487
X-APPLE-STRUCTURED-LOCATION;VALUE=URI;X-ADDRESS=Comune\, Nepi\, Viterbo\, L
 azio\, Italia;X-APPLE-RADIUS=100;X-TITLE=Nepi:geo:42.2424,12.3487
END:VEVENT
BEGIN:VTIMEZONE
TZID:Europe/Rome
X-LIC-LOCATION:Europe/Rome
BEGIN:DAYLIGHT
DTSTART:20230326T030000
TZOFFSETFROM:+0100
TZOFFSETTO:+0200
TZNAME:CEST
END:DAYLIGHT
END:VTIMEZONE
END:VCALENDAR