BEGIN:VCALENDAR
VERSION:2.0
PRODID:-//wp-events-plugin.com//7.2.3.1//EN
TZID:Europe/Rome
X-WR-TIMEZONE:Europe/Rome
BEGIN:VEVENT
UID:34749@lazioeventi.com
DTSTART;TZID=Europe/Rome:20230415T160000
DTEND;TZID=Europe/Rome:20230415T180000
DTSTAMP:20230321T091321Z
URL:https://lazioeventi.com/eventi/la-fisica-di-tutti-i-giorni-che-ci-piac
 e
SUMMARY:La Fisica di tutti i giorni... che ci piace - Frascati - 15 Aprile 
 23 16:00
DESCRIPTION:Nella città di Frascati\, da una collaborazione tra varie asso
 ciazioni e realtà che operano in ambito culturale\, nasce “La scienza a
 d alta voce“: una serie di appuntamenti in cui bambini e ragazzi potrann
 o avranno la possibilità di leggere alcuni passaggi di libri scientifici 
 associati a esperimenti\, giochi e laboratori a tema! Frascati Scienza\, i
 nsieme ad altre realtà\, proporrà un incontro al mese da marzo ad agosto
 \, che si inserirà all’interno del programma di iniziative proposte da 
 tutte le associazioni che fanno parte del Patto Locale per la Lettura del 
 Comune di Frascati. Dodici mesi di iniziative per rilanciare la lettura\, 
 la cultura del territorio.\n\nSabato 15 marzo  h 16:00\n\nLA FISICA DI TUT
 TI I GIORNI...CHE CI PIACE!\n\nUn laboratorio con tanti esperimenti per sc
 oprire la fisica della vita quotidiana\n\nNella nostra vita facciamo fisic
 a in continuazione\, ma molto spesso non ce ne rendiamo conto! In questo l
 aboratorio parleremo di onde. Delle onde del mare\, delle onde elettromagn
 etiche di cui la luce è una componente\, ma anche delle onde sonore! Non 
 siete ancora convinti? Proveremo a “vedere” le onde sonore viaggiare e
  muoversi tutte intorno a noi. Vi aspettiamo insieme ai ricercatori e alle
  ricercatrici dell’Associazione Giovanile Le Scie Fisiche con tanti espe
 rimenti interattivi ispirati alle pagine di "La Fisica che ci piace" di Vi
 ncenzo Schettini\, per cercare di capire cosa siano suono e luce\, come si
  generano\, come si propagano e molto altro!\n\nPrenotazione obbligatoria:
  http://scienzaadaltavoce.eventbrite.it/
ATTACH;FMTTYPE=image/jpeg:https://lazioeventi.com/wp-content/uploads/2023/
 03/scienza-frascati.jpg
CATEGORIES:Arte e Cultura nel Lazio
LOCATION:Frascati\, Comune\, Frascati\, Roma\, Lazio\, Italia
GEO:41.807;12.6786
X-APPLE-STRUCTURED-LOCATION;VALUE=URI;X-ADDRESS=Comune\, Frascati\, Roma\, 
 Lazio\, Italia;X-APPLE-RADIUS=100;X-TITLE=Frascati:geo:41.807,12.6786
END:VEVENT
BEGIN:VTIMEZONE
TZID:Europe/Rome
X-LIC-LOCATION:Europe/Rome
BEGIN:DAYLIGHT
DTSTART:20230326T030000
TZOFFSETFROM:+0100
TZOFFSETTO:+0200
TZNAME:CEST
END:DAYLIGHT
END:VTIMEZONE
END:VCALENDAR