BEGIN:VCALENDAR
VERSION:2.0
PRODID:-//wp-events-plugin.com//7.2.3.1//EN
TZID:Europe/Rome
X-WR-TIMEZONE:Europe/Rome
BEGIN:VEVENT
UID:40853@lazioeventi.com
DTSTART;TZID=Europe/Rome:20250308T103000
DTEND;TZID=Europe/Rome:20250308T210000
DTSTAMP:20250227T173253Z
URL:https://lazioeventi.com/eventi/la-flor-natura-al-femminile
SUMMARY:La Flor – Natura al Femminile - Roma - 8 Marzo 25 10:30
DESCRIPTION:L’8 marzo all’Orto Botanico di Roma una giornata dedicata a
 lla creatività declinata al femminile tra presentazioni\, incontri a tema
 \, performance dal vivo e mostre artistiche.\n\nRendere omaggio alle donne
  esaltando le qualità\, i pregi\, i traguardi e le prospettive legate al 
 mondo femminile. Questo l’obiettivo di La Flor Natura al Femminile\, l
 ’evento organizzato dal Museo Orto Botanico di Roma. Un 8 marzo\, dunque
 \, con un’attitudine costruttiva che vuole cogliere\, attraverso un ricc
 o calendario di appuntamenti che si svolgeranno nell’arco della giornata
 \, l’essenza creativa\, artistica e professionale che è insita nella do
 nna.\n \nIl titolo della manifestazione\, che si svolgerà negli spazi del
  giardino trasteverino dalle 10:30 alle 21:00\, è La Flor\, natura al fem
 minile. Il termine in spagnolo significa “fiore” e si consideri che la
  maggior parte dei lemmi botanici delle piante sono declinati al femminile
 . E dunque proprio nella caleidoscopica biodiversità dell’Orto Botanico
 \, proprio dove crescono rigogliose tante specie di piante e fiori\, andra
 nno in scena gli appuntamenti in programma che vedranno protagoniste le do
 nne\, quelle di oggi e quelle del passato\, che con le loro testimonianze 
 dirette e indirette e con la forza che le contraddistingue contribuiranno 
 a alla creazione di un domani più “roseo” per le donne del futuro!\n 
 \nLa giornata si aprirà in Aranciera alle ore 10:30 con il benvenuto e l
 ’intervento di Flavio Tarquini\, curatore dell’Orto Botanico\, seguito
  da originali interventi: un vero e proprio caleidoscopio dedicato alla cr
 eatività delle protagoniste della giornata. Si spazierà dalla presentazi
 one del libro “Stella Benson – La Cacciatrice di Parole” scritto da 
 Francesca Cosentino\, giornalista RAI (con letture di Anna Zilli)\, ad alc
 une riflessioni legate a “I Talenti di Gertrude Bell” scrittrice\, esp
 loratrice e diplomatica a cavallo fra 800 e 900\, a cura di Maria Giovanna
  Biga\, storica\, archeologa e orientalista dell’Università La Sapienza
 . Patrizia Schiarizza\, avvocata e fondatrice di Il Giardino Segreto\, des
 criverà cosa l’abbia spinta ad animare particolari progetti di assisten
 za e Luca Maroni\, ispiratore del Vigneto Italia all’interno dell’Orto
 \, si soffermerà sulle donne e il vino.\n \nA seguire\, dalle ore 14:00 a
 lle 17:00\, andrà in scena il laboratorio di balli e canti polifonici del
  Mediterraneo tenuto da Livia Giaffreda (prenotazione obbligatoria: romatr
 ad@gmail.com). All’interno della Serra Espositiva\, invece\, si svolger
 à il laboratorio con degustazione a cura di Linda Reali dal titolo “Un 
 Tè con Marianne North. Storia di una Viaggiatrice e Illustratrice botanic
 a dell’800”. Non mancherà poi l’arte e l’artigianato con il labor
 atorio “L’intelligenza Artigiana” sull’arte orafa delle Sorelle Ar
 riga e quello sulla stampa botanica a cura di Nicoletta Congia dal titolo 
 “La Curiosità è Donna”. L’arte urbana\, poi\, sarà il tema di “
 Muri Sicuri: ricostruire attraverso l’arte”\, il laboratorio tenuto da
  Murilab. I quadri di Francesca Coccurello e i fiori in vetro e in carta d
 i Studio Silice delizieranno gli occhi degli ospiti.\nUna grande festa\, d
 unque\, con focus sulla creatività femminile in tutte le sue sfumature\, 
 che fornirà una preziosa occasione di riflessione sul ruolo della donna n
 ella società e nella cultura attraverso i secoli e con un occhio di spera
 nza al futuro.\n \nIngresso: 5 euro a persona                             
         \n
ATTACH;FMTTYPE=image/jpeg:https://lazioeventi.com/wp-content/uploads/2025/
 02/la-flor.jpg
CATEGORIES:Arte e Cultura nel Lazio,Varie
LOCATION:Roma\, Via Leopardi\, Roma\, Roma\, Lazio\, Italia
GEO:41.8942;12.5017
X-APPLE-STRUCTURED-LOCATION;VALUE=URI;X-ADDRESS=Via Leopardi\, Roma\, Roma\
 , Lazio\, Italia;X-APPLE-RADIUS=100;X-TITLE=Roma:geo:41.8942,12.5017
END:VEVENT
BEGIN:VTIMEZONE
TZID:Europe/Rome
X-LIC-LOCATION:Europe/Rome
BEGIN:STANDARD
DTSTART:20241027T020000
TZOFFSETFROM:+0200
TZOFFSETTO:+0100
TZNAME:CET
END:STANDARD
END:VTIMEZONE
END:VCALENDAR