BEGIN:VCALENDAR
VERSION:2.0
PRODID:-//wp-events-plugin.com//7.2.3.1//EN
TZID:Europe/Rome
X-WR-TIMEZONE:Europe/Rome
BEGIN:VEVENT
UID:37376@lazioeventi.com
DTSTART;TZID=Europe/Rome:20231014T103000
DTEND;TZID=Europe/Rome:20231028T123000
DTSTAMP:20231006T153248Z
URL:https://lazioeventi.com/eventi/la-galleria-accademica-presenta-rosa-st
 ramandino-la-pelle-unica-del-senso
SUMMARY:La Galleria Accademica presenta Rosa Stramandino. La pelle unica de
 l senso. - Canale Monterano - 14 Ottobre 23 10:30
DESCRIPTION:L’Accademia Internazionale di Significazione Poesia e Arte Co
 ntemporanea\, in convenzione formativa con l’Università degli Studi di 
 Roma Tre\, accreditata dalla Regione Lazio\, iscritta all’albo di Roma C
 apitale e del Comune di Canale Monterano\, presidente fondatrice la prof.s
 sa Fulvia Minetti\, vicepresidente il dott. Renato Rocchi\, direttore arti
 stico Antonino Bumbica\, inaugura la mostra di Rosa Stramandino alla Galle
 ria Accademica d’Arte Contemporanea della Città d’Arte Canale Montera
 no di Roma in Corso della Repubblica n.50 il 14 ottobre 2023 alle ore 18.3
 0\, aperta al pubblico fino al 28 ottobre 2023 ore 10\,30-12\,30 con ingre
 sso gratuito.\n\n&nbsp\;\n\nRosa Stramandino è nata a Barcellona Pozzo di
  Gotto in provincia di Messina nel 1980\, si è diplomata all'Accademia di
  Belle Arti di Catania nel 2003\, già docente di Storia dell'Arte e Diseg
 no dal 2007 e docente di sostegno\, contesto in cui introduce l’arte com
 e mezzo d’espressione e di conoscenza. Nel 2000 partecipa al Salone dei 
 beni e delle attività culturali di Venezia\, nel 2002 al Salone del Medit
 erraneo di restauro e conservazione dei beni culturali e ambientali di Cat
 ania. Nel 2007 e 2008 è responsabile delle Arti Visive presso l'Associazi
 one Muse Italia di Genova\, nel 2018 collabora con la Galleria Ponti x l
 ’Arte con sede a Milano e Parma. Nel 2022 partecipa alla Mostra internaz
 ionale di Marsiglia\, organizza varie mostre personali sul territorio ital
 iano e attualmente le sue opere sono esposte presso diverse gallerie nella
  città di Milano e di Parma.\n\nLe tracce cromatiche della Stramandino so
 no carezze sulla pelle\, ove la pelle umana rifonde alla pelle del mondo. 
 È un’arte precategoriale\, irriflessa\, sensoriale: un’arte ancora um
 ida degli abissi della verità inconscia. Le scie e le modulazioni vibrazi
 onali dell’artista richiamano alla visione archetipica dell’esperienza
  comune e universale dell’uomo: la vita nel grembo. L’imbibizione nel 
 ricetto materno è sincronia\, sintonia\, sinfonia di sé all’ambiente. 
 La domanda di sé\, di un essere in fieri\, è in ogni istante accorsa da 
 una risposta di continuità\, d’amore e di rispecchiamento: nel battito 
 cardiaco\, nella respirazione\, nelle modulazioni del tono muscolare\, nel
 l’abbraccio delle onde di pressione amniotica sulla pelle\, quali prime 
 note risuonanti i movimenti del gesto emotivo. L’emozione materna è ond
 a raccolta in impressione dermica. Sul foglio della mente la nuova vita tr
 accia gli inchiostri propriocettivi\, come macchie e scie in chiaroscuro d
 i sfumature: sono le tensioni e distensioni del tono muscolare per un dist
 illato di sé. L’ontogenesi registra psicofisicamente gli archetipi dell
 ’inconscio collettivo umano e conserva una dimensione protomentale in cu
 i corpo e mente\, come soggetto e oggetto\, si trovano in uno stato d’in
 distinzione.\n\nLe tracce archetipiche della Stramandino sono melodie dell
 ’esperito universale\, linee\, campiture e sfumature di sintesi di sé e
  di mondo\, in abbraccio unico e bidimensionale dell’immemoriale. La pel
 le delle tele dell’artista non è rappresentazione\, ma presentazione di
 retta di uno strato di memorie inconsce\, un tessuto d’impressioni\, che
  giacciono latenti in attesa di vivificarsi ancora. La pelle pittorica è 
 un narrato\, è simulacro d’incontri\, è relitto di contatti nel maregg
 iare delle interazioni di sé e d’altro\, di sé e di mondo. Il tatto de
 lla pelle è il senso vicariante e non vicariabile\, padre di tutti gli al
 tri\, substrato sinestesico che riconduce al vissuto di intersensorialità
  primaria.\n\nL’arte della Stramandino ricongiunge ogni divisione inters
 oggettuale della sovrastruttura culturale del vivere sociale\, è espressi
 one dell’identità comune e naturale di un’unità psicofisica armonica
 . Come nel grembo materno il feto vive un’organizzazione di sé in proie
 zione psicoaffettiva nel circondario intrauterino\, così gli spazi pittor
 ici della Stramandino sono un protoggetto transizionale winnicottiano come
  luogo franco di possibile autoinvestito\, per la percezione di un sé inf
 inito.\n\nQuesta arte verace e autentica dimostra che l’essere non è un
  patrimonio mentale\, non è un appannaggio culturale\, è invece una poss
 ibilità sensibile. L’essere è possibile in relazione ad un essere stat
 i comune: l’esperienza prenatale nel grembo materno. L’essere è una d
 imensione di tutti\, al di là delle soggettività\, delle diversità\, de
 lle culture\, e degli stati alterati di coscienza. La Stramandino dipinge 
 sé al mondo lungo gli arabeschi di carezze dimentiche\, che lasciano nel 
 presente il desiderio del supporto espanso di sé. La condizione tetica e 
 mancante dell’uomo\, di fronte all’oggettualità antitetica del mondo\
 , si appella al sentimento sintetico dell’arte. La sinestesia è la faco
 ltà umana\, involontaria e inalienabile\, di associazione di tutti i sens
 i dietro la stimolazione di uno. L’uomo non possiede nulla\, né di sé\
 , né delle cose\, ma può innamorarsi del mondo per la meraviglia di un d
 ono: la pelle unica della continuità di senso dell’essere. (Fulvia Mine
 tti)\n\nhttps://www.accademiapoesiarte.com/mostra-rosa-stramandino
ATTACH;FMTTYPE=image/jpeg:https://lazioeventi.com/wp-content/uploads/2023/
 10/Invito-Mostra-Rosa-Stramandino.-Galleria-Accademica-dArte-Contemporanea
 .jpg
CATEGORIES:Arte e Cultura nel Lazio
LOCATION:Canale Monterano\, Comune\, Canale Monterano\, Roma\, Lazio\, Ital
 ia
GEO:42.1367;12.1038
X-APPLE-STRUCTURED-LOCATION;VALUE=URI;X-ADDRESS=Comune\, Canale Monterano\,
  Roma\, Lazio\, Italia;X-APPLE-RADIUS=100;X-TITLE=Canale Monterano:geo:42.
 1367,12.1038
END:VEVENT
BEGIN:VTIMEZONE
TZID:Europe/Rome
X-LIC-LOCATION:Europe/Rome
BEGIN:DAYLIGHT
DTSTART:20230326T030000
TZOFFSETFROM:+0100
TZOFFSETTO:+0200
TZNAME:CEST
END:DAYLIGHT
END:VTIMEZONE
END:VCALENDAR