BEGIN:VCALENDAR
VERSION:2.0
PRODID:-//wp-events-plugin.com//7.2.3.1//EN
TZID:Europe/Rome
X-WR-TIMEZONE:Europe/Rome
BEGIN:VEVENT
UID:33803@lazioeventi.com
DTSTART;TZID=Europe/Rome:20230130T200000
DTEND;TZID=Europe/Rome:20230130T230000
DTSTAMP:20230116T090623Z
URL:https://lazioeventi.com/eventi/la-legge
SUMMARY:La Legge - Roma - 30 Gennaio 23 20:00
DESCRIPTION:LA LEGGE\, l'ultimo film di Flavia Mastrella\, sarà presentato
  a Roma al cinema Troisi il 30 gennaio 2023 alle ore 20.\nSeguirà l'incon
 tro con l'autrice condotto da Giovanni Spagnoletti.\n\nCentonovanta person
 e hanno realizzato e interpretato con il cellulare la lettura di un artico
 lo della Costituzione italiana. È così che il cellulare\, arma di stermi
 nio della tensione emotiva in presenza\, si è trasformato in mezzo creati
 vo a distanza.\n\nLe disposizioni Transitorie e Finali raccontano lo stato
  d’animo degli umani durante il cambiamento epocale avvenuto dopo il 194
 5\, strapazzati dal rovesciamento di potere\, abbandonarono le parole e le
  usanze tradizionali per lasciarsi andare al sovvertimento.\n\n“Chi vuol
 e dominare sugli uomini cerca di svilirli\, di sottrarre loro la forza di 
 resistenza e diritti\, finché siano dinanzi a lui impotenti come animali.
  Egli li trasforma in animali\, e anche se non lo dice apertamente\, entro
  di sé è sempre ben cosciente di quanto poco gli importino\; parlandone 
 con i suoi confidenti\, egli li definirà pecore o gregge.”\nElias Canet
 ti\n\nL’esigenza di affrontare la video lettura della costituzione itali
 ana scaturisce da pulsioni rabbiose\, unite a un incontrollabile risentime
 nto nei miei confronti e del popolo che ci siamo fatti condizionare dalla 
 legge del più forte.\n\nFlavia Mastrella si occupa di comunicazione e con
 taminazione\, considera ogni cosa materia.\n\nPrenotazioni: https://www.li
 vetiket.it/
ATTACH;FMTTYPE=image/jpeg:https://lazioeventi.com/wp-content/uploads/2023/
 01/Schermata-la-legge.png
CATEGORIES:Musica, Spettacoli e Danza nel Lazio
LOCATION:Roma\, Via Leopardi\, Roma\, Roma\, Lazio\, Italia
GEO:41.8942;12.5017
X-APPLE-STRUCTURED-LOCATION;VALUE=URI;X-ADDRESS=Via Leopardi\, Roma\, Roma\
 , Lazio\, Italia;X-APPLE-RADIUS=100;X-TITLE=Roma:geo:41.8942,12.5017
END:VEVENT
BEGIN:VTIMEZONE
TZID:Europe/Rome
X-LIC-LOCATION:Europe/Rome
BEGIN:STANDARD
DTSTART:20221030T020000
TZOFFSETFROM:+0200
TZOFFSETTO:+0100
TZNAME:CET
END:STANDARD
END:VTIMEZONE
END:VCALENDAR