BEGIN:VCALENDAR
VERSION:2.0
PRODID:-//wp-events-plugin.com//7.2.3.1//EN
TZID:Europe/Rome
X-WR-TIMEZONE:Europe/Rome
BEGIN:VEVENT
UID:37637@lazioeventi.com
DTSTART;TZID=Europe/Rome;VALUE=DATE:20231107
DTEND;TZID=Europe/Rome;VALUE=DATE:20231119
DTSTAMP:20231101T192238Z
URL:https://lazioeventi.com/eventi/la-linea-del-colore
SUMMARY:La linea del colore - Latina - 7 Novembre 23 00:00
DESCRIPTION:Proseguono gli eventi artistici presso la OmniArt OpenGallery\,
  il nuovo spazio espositivo di via Legnano che da settembre ha aperto i ba
 ttenti configurandosi come un nuovo punto di promozione artistica del capo
 luogo. Martedì 7 novembre\, dalle ore 18\,00 alle 20\,00 sarà inaugurata
  la mostra di pittura e scultura intitolata “La linea del colore”\, de
 lle artiste Francesca Cinquegrana e Dalia Valdez\, a cura dell’artista M
 arianna Scuderi. Introduce la mostra la critica d’arte Laura Cianfarani.
  \n\n“La linea del colore” esplora l’interazione tra forma e colore.
  Le due artiste esporranno opere diverse tra loro ma accomunate da linee e
  colori creativi ed espressivi. Si potranno ammirare dipinti\, sculture\, 
 installazioni e opere realizzate con l’aerografo\, tutte concentrate sul
 la rappresentazione e l’uso di linee e colori come elementi chiave per t
 rasmettere concetti\, emozioni e storie di entrambe le artiste. Le opere s
 paziano da astratte a figurative attraversando una vasta gamma di stili ar
 tistici che vanno dal realismo all’arte concettuale.\n\nFrancesca Cinque
 grana\, classe 1971\, coltiva da sempre la passione per la pittura. Nel 20
 06 entra a far parte del Gruppo Art del maestro Giuseppe Di Salvo\, dove a
 pprende tecniche di pittura classica lasciando comunque spazio alla sperim
 entazione. Successivamente si avvicina all’acquerello\, studiando con il
  maestro Valerio Libralato. Approfondisce la pittura con l’aerografo con
  il maestro Mario Romani\, conseguendo il Diploma avanzato di aerografia e
  custom. Con l’associazione AIR (Aerografisti Italiani Riuniti) espone i
 n tutta Italia (Ravenna\, Modena\, Bari e Roma). Tiene corsi di aerografia
  a Milano\, Padova\, Roma\, Giovinazzo e Latina.\n\nIn una nota critica si
  legge: “La pittura di Francesca Cinquegrana\, è caratterizzata\, sia n
 egli acquerelli che negli acrilici\, da accostamenti cromatici contrastant
 i\, a volte inusuali. Produce in chi guarda stupore e meraviglia. (…)Ind
 uce lo spettatore a immergersi nel quadro più e più volte\, e ogni volta
  in maniera diversa\, alla ricerca di nuove visioni e prospettive(…)”\
 nDalia Valdez nasce in Messico nel 1982\, a Taqluepaque\, paesino famoso p
 er le ceramiche e artigianato allegro e colorato\, che ha influito sulla s
 ua propensione per le attività creative e manuali. Appassionata di arte a
 zteca per la ricchezza e l’unicità di linguaggio\, è profondamente leg
 ata al suo Paese pur vivendo all’estero\, ma è anche affascinata dal cl
 assicismo rinascimentale\, che ha fatto accrescere in lei l’amore per l
 ’Italia con i suoi Michelangelo\, Leonardo e Bernini. Ciò non esclude l
 ’attrazione per l’astrattismo e l’arte contemporanea. \nE’ continu
 amente rivolta alla sperimentazione di nuovi linguaggi\, tecniche e materi
 ali. Si dedica alla scultura e alla pittura\, ispirata dalla natura\, dall
 a figura femminile e dalle geometrie sacre\, che le hanno impresso un desi
 derio di ordine\, pace e armonia che dalle sue opere desidera trasmettere 
 al pubblico. In Italia ha esposto soprattutto a Roma mentre all’estero 
 è stata presente con una mostra in Grecia.\n\nIl 10 novembre ci sarà il 
 consueto appuntamento con l’AperiArt\, aperitivo artistico organizzato i
 n collaborazione con “PB-Per bere. Vino e distillati”\, enoteca di Pia
 zza della Libertà\, 41.\nLa mostra resterà aperta al pubblico fino al 18
  novembre con ingresso gratuito\n\nA cura di Marianna Scuderi. Introduce L
 aura Cianfarani\nInaugurazione: martedì 7 novembre ore 18\,00\nSede: Omni
 Art OpenGallery\, via Legnano\, 65 - Latina\nOrari di apertura: dal marted
 ì al venerdì 16\,00-20\,00. Sabato 10\,00-14\,00. Domenica e lunedì chi
 uso\nInfo 338.228.5649 – segreteriaomniart@gmail.com
ATTACH;FMTTYPE=image/jpeg:https://lazioeventi.com/wp-content/uploads/2023/
 10/linea-colore.jpg
CATEGORIES:Arte e Cultura nel Lazio
LOCATION:Latina\, Comune di Latina\, Latina\, Latina\, Lazio\, Italia
GEO:41.4674;12.9034
X-APPLE-STRUCTURED-LOCATION;VALUE=URI;X-ADDRESS=Comune di Latina\, Latina\,
  Latina\, Lazio\, Italia;X-APPLE-RADIUS=100;X-TITLE=Latina:geo:41.4674,12.
 9034
END:VEVENT
BEGIN:VTIMEZONE
TZID:Europe/Rome
X-LIC-LOCATION:Europe/Rome
BEGIN:STANDARD
DTSTART:20231029T020000
TZOFFSETFROM:+0200
TZOFFSETTO:+0100
TZNAME:CET
END:STANDARD
END:VTIMEZONE
END:VCALENDAR