BEGIN:VCALENDAR
VERSION:2.0
PRODID:-//wp-events-plugin.com//7.2.3.1//EN
TZID:Europe/Rome
X-WR-TIMEZONE:Europe/Rome
BEGIN:VEVENT
UID:35749@lazioeventi.com
DTSTART;TZID=Europe/Rome:20230609T203000
DTEND;TZID=Europe/Rome:20230609T233000
DTSTAMP:20230606T123950Z
URL:https://lazioeventi.com/eventi/la-lunga-notte-delle-chiese
SUMMARY:La Lunga Notte delle Chiese - Ferentino - 9 Giugno 23 20:30
DESCRIPTION:Per la Lunga Notte nelle Chiese la Diocesi di Frosinone-Veroli-
 Ferentino:\n\nPresentazione iniziale\nEsibizioni musicali\nTestimonianza d
 i vita diretta\nCoro bambini\nStoria ed aneddoti della chiesa di Santa Mar
 ia Maggiore\nEsibizione di danza\nBreve rappresentazione della vita di S. 
 Ambrogio martire\nPoesia dialettale\nCaccia al tesoro sulla tematica dell'
 evento\nRiflessione finale e benedizione\nAree espositive di associazioni 
 ed artisti locali\nBiliardino sotto le stelle\n\n
ATTACH;FMTTYPE=image/jpeg:https://lazioeventi.com/wp-content/uploads/2023/
 06/lunga-notte-delle-chiese.jpg
CATEGORIES:Arte e Cultura nel Lazio,Musica, Spettacoli e Danza nel
 Lazio,Sport, Tempo Libero e Divertimento nel Lazio
LOCATION:Ferentino\, Comune di Ferentino\, Ferentino\, Frosinone\, Lazio\, 
 Italia
GEO:41.6927;13.2534
X-APPLE-STRUCTURED-LOCATION;VALUE=URI;X-ADDRESS=Comune di Ferentino\, Feren
 tino\, Frosinone\, Lazio\, Italia;X-APPLE-RADIUS=100;X-TITLE=Ferentino:geo
 :41.6927,13.2534
END:VEVENT
BEGIN:VTIMEZONE
TZID:Europe/Rome
X-LIC-LOCATION:Europe/Rome
BEGIN:DAYLIGHT
DTSTART:20230326T030000
TZOFFSETFROM:+0100
TZOFFSETTO:+0200
TZNAME:CEST
END:DAYLIGHT
END:VTIMEZONE
END:VCALENDAR