BEGIN:VCALENDAR
VERSION:2.0
PRODID:-//wp-events-plugin.com//7.2.3.1//EN
TZID:Europe/Rome
X-WR-TIMEZONE:Europe/Rome
BEGIN:VEVENT
UID:40184@lazioeventi.com
DTSTART;TZID=Europe/Rome:20241102T170000
DTEND;TZID=Europe/Rome:20241102T183000
DTSTAMP:20241030T143009Z
URL:https://lazioeventi.com/eventi/la-maga-dei-sogni
SUMMARY:La maga dei sogni - Roma - 2 Novembre 24 17:00
DESCRIPTION:Il 2 novembre alle ore 17 (con replica il 3 novembre e dal 21 a
 l 26 febbraio) la Compagnia Teatro Verde porterà in scena in prima assolu
 ta La maga dei sogni di Andrea Calabretta con la regia di Emanuela La Torr
 e. \nIn scena Vittoria Rossi\, Giovanni Bussi e Andrea Calabretta. Le musi
 che originali sono di Enrico Biciocchi\, le scene e i costumi di Alessandr
 a Ricci. Le sagome e illustrazioni di Fabio Magnasciutti e Cristiano Petre
 tto. La direzione artistica è di Veronica Olmi.\n\nLo spettacolo nasce ne
 l 2003 con il titolo Il mago dei sogni e\, in quella stagione\, riceve una
  menzione per la drammaturgia al Premio Stregatto dal grande critico teatr
 ale Nico Garrone. “Con il garbo tematico e la freschezza inventiva di Ro
 dari o di Zavattini\, Andrea Calabretta ha scritto in forma di favola mode
 rna un dispettoso apologo contro la piattezza del mondo\, ridotto a pura e
  semplice sete di guadagno. Le incursioni notturne del Mago dei Sogni con 
 le sue sorprendenti apparizioni\, i dirottamenti spazio-temporali un po’
  da Helzapoppin\, tra i libri mastri dell’ufficio contabile del Commenda
 tor Mario Netta (marionetta di nome e di fatto)\, sono un esempio della ga
 ia moralità\; ed insieme un bell’esercizio per aiutare gli spettatori p
 iù o meno giovani a sciogliere le briglie della fantasia.” \n\nÈ notte
 \, il commendator Mario Netta si sta dedicando al suo passatempo preferito
 : fare i conti. Giorno e notte ha un solo pensiero\, guadagnare soldi. Pra
 ticamente non dorme più e quei pochi sogni che riesce ancora a fare parla
 no solo di pesci e di soldi…un’ossessione! Ma nel mezzo di una notte\,
  riceve la visita della Maga dei Sogni. E del suo strampalato esercito di 
 mostri. Inizia così un viaggio nel mondo dei sogni e tra pirati\, guerrie
 ri\, dame e battaglie consumate su una scacchiera\, il commendator Mario N
 etta scoprirà quanto sia povera la vita senza le emozioni e i sogni. \nUn
 a versione completamente rinnovata di un classico del Teatro Verde\, racco
 ntata da attori e ombre\, che rendono la messa in scena al tempo stesso av
 venturosa\, esilarante e sognante. E con una variazione sul nome da mago a
  maga\, perché\, come la Compagnia sottolinea: “in questo momento stori
 co è giusto che sia così”. \n\n\nIl Teatro per le nuove generazioni\nT
 EATRO VERDE\ndal 1979 il teatro dei bambini e dei ragazzi di Roma\n39a Ras
 segna Nazionale “Oltre la scena”\nTarga d’Argento della Presidenza d
 ella Repubblica Italiana\ndirezione artistica Veronica Olmi\n\nDove siamo:
  Circ.ne Gianicolense\, 10 (di fronte alla stazione Trastevere) Roma\nCome
  raggiungerci: tram 3 - 8 / bus H - 719 - 773 - 780 - 781 - 228 - 170- 78
 6 - 766 - 774 - 871\ntreni FM 1 (Orte - Fiumicino aeroporto)\; FM 3 (Roma 
 - Viterbo)\; FM 5 (Roma - Civitavecchia)\n\nSpettacoli: sabato\, domenica
  e festivi ore 17 e su richiesta ore 15.00 e/o ore 18.30\nBiglietti:  ing
 resso intero € 11\,00 ridotto €10\,00 \nGreenCard: carnet/abbonamento
  da 10 spettacoli €100\,00 – 15 spettacoli €145\,00 – 20 spettacol
 i €180\,00\nPer enti\, cral e associazioni: Spettacoli con animazioni in
  giorni e orari da concordare.\nE’ attiva la biglietteria on line su ww
 w.teatroverde.it\n\nBotteghino\, informazioni e prenotazioni: telefono 06
 .5882034 - teatroverderoma@gmail.com     \ndal lunedì al sabato dal
 le ore 9.00 alle ore 18.00\ndomenica e festivi dalle ore 11.00 alle ore 19
 .00 \n
ATTACH;FMTTYPE=image/jpeg:https://lazioeventi.com/wp-content/uploads/2024/
 10/banner-maga.jpeg
CATEGORIES:Musica, Spettacoli e Danza nel Lazio
LOCATION:Roma\, Via Leopardi\, Roma\, Roma\, Lazio\, Italia
GEO:41.8942;12.5017
X-APPLE-STRUCTURED-LOCATION;VALUE=URI;X-ADDRESS=Via Leopardi\, Roma\, Roma\
 , Lazio\, Italia;X-APPLE-RADIUS=100;X-TITLE=Roma:geo:41.8942,12.5017
END:VEVENT
BEGIN:VTIMEZONE
TZID:Europe/Rome
X-LIC-LOCATION:Europe/Rome
BEGIN:STANDARD
DTSTART:20241027T020000
TZOFFSETFROM:+0200
TZOFFSETTO:+0100
TZNAME:CET
END:STANDARD
END:VTIMEZONE
END:VCALENDAR