BEGIN:VCALENDAR
VERSION:2.0
PRODID:-//wp-events-plugin.com//7.2.3.1//EN
TZID:Europe/Rome
X-WR-TIMEZONE:Europe/Rome
BEGIN:VEVENT
UID:44275@lazioeventi.com
DTSTART;TZID=Europe/Rome:20260502T083000
DTEND;TZID=Europe/Rome:20260502T150000
DTSTAMP:20260422T063913Z
URL:https://lazioeventi.com/eventi/la-magnareccia-sulla-carrareccia
SUMMARY:La Magnareccia sulla Carrareccia - Fabrica di Roma - 2 Maggio 26 08
 :30
DESCRIPTION:Sabato 2 maggio 2026\, la storia torna a farsi cammino con la q
 uarta edizione de "La Magnareccia sulla Carrareccia". Un evento unico che 
 unisce la passione per l’archeologia\, il piacere del trekking e la risc
 operta dei sapori autentici della terra falisca\, il tutto con un importan
 te fine solidale.\n\nL’iniziativa\, patrocinata dalla Regione Lazio e in
  collaborazione con il Comune e la Via Amerina\, invita i partecipanti a u
 n viaggio nel tempo lungo circa 5 km. Il percorso si snoderà dall'imponen
 te Abbazia di S. Maria in Falleri fino alla suggestiva Necropoli di Cavo d
 egli Zucchi\, percorrendo l'antico tracciato della Via Amerina. Lungo il t
 ragitto\, guide esperte narreranno le vicende degli antenati falisci\, arr
 icchite da una rievocazione storica che farà rivivere uno spaccato di vit
 a quotidiana dell’epoca.\n\nDopo la fatica del cammino\, la meritata ric
 ompensa: un pranzo conviviale presso "il Boschetto" a Parco Falisco\, dove
  i ristoratori e le aziende locali proporranno un ricco menù a base di pr
 odotti a km zero\, accompagnato da intrattenimento musicale. Partecipare n
 on fa bene solo allo spirito\, ma anche agli altri: l'offerta di partecipa
 zione di 5 euro sarà infatti interamente devoluta in beneficenza.\n\nPROG
 RAMMA DELL’EVENTO (02/05/2026)\nOre 08:30: Accoglienza presso l’Abbazi
 a di S. Maria in Falleri (Iscrizione e colazione).\nOre 09:00: Visita stor
 ica guidata dell’Abbazia e partenza dell’Archeo-Trekking verso la Necr
 opoli di Cavo degli Zucchi (Antica Via Amerina).\nLungo il percorso: Racco
 nti storici e Rievocazione Storica della vita dei Falisci.\nOre 13:00: Rit
 rovo al Boschetto (Via dei Falisci\, Parco Falisco) per il Pranzo con cibi
  del territorio e intrattenimento musicale.\n\nDettagli Tecnici:\nLunghezz
 a: 5 km circa (Percorso non difficoltoso).\nConsigli: Scarpe da trekking o
  camminata.\nCosto: Offerta minima di 5\,00 € (devoluta in beneficenza).
 \nIscrizioni: Obbligatorie tramite WhatsApp al n. 333 647 4824 (Patrizia).
ATTACH;FMTTYPE=image/jpeg:https://lazioeventi.com/wp-content/uploads/2026/
 04/magnareccia.jpg
CATEGORIES:Arte e Cultura nel Lazio,Sagre, Gastronomia e Tradizioni nel
 Lazio,Sport, Tempo Libero e Divertimento nel Lazio
LOCATION:Fabrica di Roma\, Comune di Fabrica di Roma\, Fabrica di Roma\, Vi
 terbo\, Lazio\, Italia
GEO:42.3339;12.3093
X-APPLE-STRUCTURED-LOCATION;VALUE=URI;X-ADDRESS=Comune di Fabrica di Roma\,
  Fabrica di Roma\, Viterbo\, Lazio\, Italia;X-APPLE-RADIUS=100;X-TITLE=Fab
 rica di Roma:geo:42.3339,12.3093
END:VEVENT
BEGIN:VTIMEZONE
TZID:Europe/Rome
X-LIC-LOCATION:Europe/Rome
BEGIN:DAYLIGHT
DTSTART:20260329T030000
TZOFFSETFROM:+0100
TZOFFSETTO:+0200
TZNAME:CEST
END:DAYLIGHT
END:VTIMEZONE
END:VCALENDAR