BEGIN:VCALENDAR
VERSION:2.0
PRODID:-//wp-events-plugin.com//7.2.3.1//EN
TZID:Europe/Rome
X-WR-TIMEZONE:Europe/Rome
BEGIN:VEVENT
UID:33014@lazioeventi.com
DTSTART;TZID=Europe/Rome:20221125T210000
DTEND;TZID=Europe/Rome:20221125T223000
DTSTAMP:20221110T161126Z
URL:https://lazioeventi.com/eventi/la-morfia
SUMMARY:La Morfia - Montelanico - 25 Novembre 22 21:00
DESCRIPTION:Rassegna teatrale ad alt(r)a cominictà\n\nVenerdì 25 Novembre
  ore 21:00\nLA SMORFIA\nCompagnia Teatro Macondo\ndi L. Arena\, E. Decaro\
 , M. Troisi\ncon Emilio Barone\, Roberta Nisiboccia\, Francesco Petti\n\nC
 OSTO: Gratuito\n
ATTACH;FMTTYPE=image/jpeg:https://lazioeventi.com/wp-content/uploads/2022/
 11/montelanico-serotonina.jpg
CATEGORIES:Musica, Spettacoli e Danza nel Lazio
LOCATION:Montelanico\, Comune\, Montelanico\, Roma\, Lazio\, Italia
GEO:41.6497;13.0395
X-APPLE-STRUCTURED-LOCATION;VALUE=URI;X-ADDRESS=Comune\, Montelanico\, Roma
 \, Lazio\, Italia;X-APPLE-RADIUS=100;X-TITLE=Montelanico:geo:41.6497,13.03
 95
END:VEVENT
BEGIN:VTIMEZONE
TZID:Europe/Rome
X-LIC-LOCATION:Europe/Rome
BEGIN:STANDARD
DTSTART:20221030T020000
TZOFFSETFROM:+0200
TZOFFSETTO:+0100
TZNAME:CET
END:STANDARD
END:VTIMEZONE
END:VCALENDAR