BEGIN:VCALENDAR
VERSION:2.0
PRODID:-//wp-events-plugin.com//7.2.3.1//EN
TZID:Europe/Rome
X-WR-TIMEZONE:Europe/Rome
BEGIN:VEVENT
UID:32037@lazioeventi.com
DTSTART;TZID=Europe/Rome:20220818T203000
DTEND;TZID=Europe/Rome:20220818T233000
DTSTAMP:20220816T170749Z
URL:https://lazioeventi.com/eventi/la-notte-dei-ragatti
SUMMARY:La notte dei RaGatti - Ladispoli - 18 Agosto 22 20:30
DESCRIPTION:Torna l’appuntamento con “La notte dei RaGatti”\, l’eve
 nto promosso da Dammi la Zampa Onlus\, associazione che da anni si occupa 
 sul territorio degli animali randagi\, dell’abbandono degli animali e di
  tanto altro ancora.\n\nLa serata di solidarietà è in programma per giov
 edì 18 agosto a partire dalle 20.30 al Blue Marlin di Ladispoli.\n\n“Un
 a serata di amicizia e beneficenza da trascorrere insieme sui lettini in r
 iva al 4mare con pappa buona e birra”\, scrivono gli organizzatori.\n\nL
 ’evento promosso da Dammi la Zampa in programma giovedì 18 agosto al Bl
 ue Marlin di Ladispoli a partire dalle 20.30\n\nLe donazioni sono di 13 eu
 ro. Per prenotare basta mandare un messaggio whatsapp al numero 339 49 44 
 264
ATTACH;FMTTYPE=image/jpeg:https://lazioeventi.com/wp-content/uploads/2022/
 08/notte-ragatti.jpeg
CATEGORIES:Varie
LOCATION:Ladispoli\, Comune\, Ladispoli\, Roma\, Lazio\, Italia
GEO:41.955;12.0698
X-APPLE-STRUCTURED-LOCATION;VALUE=URI;X-ADDRESS=Comune\, Ladispoli\, Roma\,
  Lazio\, Italia;X-APPLE-RADIUS=100;X-TITLE=Ladispoli:geo:41.955,12.0698
END:VEVENT
BEGIN:VTIMEZONE
TZID:Europe/Rome
X-LIC-LOCATION:Europe/Rome
BEGIN:DAYLIGHT
DTSTART:20220327T030000
TZOFFSETFROM:+0100
TZOFFSETTO:+0200
TZNAME:CEST
END:DAYLIGHT
END:VTIMEZONE
END:VCALENDAR