BEGIN:VCALENDAR
VERSION:2.0
PRODID:-//wp-events-plugin.com//7.2.3.1//EN
TZID:Europe/Rome
X-WR-TIMEZONE:Europe/Rome
BEGIN:VEVENT
UID:41930@lazioeventi.com
DTSTART;TZID=Europe/Rome:20250705T170000
DTEND;TZID=Europe/Rome:20250706T234500
DTSTAMP:20250624T091735Z
URL:https://lazioeventi.com/eventi/la-notte-delle-streghe-torrita-tiberina
SUMMARY:La Notte delle Streghe - Torrita Tiberina - 5 Luglio 25 17:00
DESCRIPTION:LA NOTTE DELLE STREGHE A TORRITA TIBERINA\n\nSeconda Edizione d
 ella Notte delle Streghe\nIn due notti d'estate la splendida Torrita Tìbe
 rina si trasformerà nel paese delle Streghe\, un magico weekend fra scope
 \, calderoni\, cartomanti e tante attrazioni a tema dal centro storico all
 a piazza dell'anfiteatro!\n\nDalle 17:00 troverete\nIl Mercatino delle Str
 eghe\, dove trovare tantissimi oggetti e libri a tema\, incensi\, cristall
 i\, divinazione e molte altre curiosità!\nPiazza Truck Food con diverse s
 pecialità per tutti i gusti!\nArea Giochi Magici per bambini\, truccabimb
 i\, disegni e altri giochi\nAnfiteatro con Dj Set\, Danze a tema e Intratt
 enimenti\nPhotoBooth per tutti i visitatori\nIl Paese delle Streghe\, nel 
 centro storico\, dove troverete giochi e intrattenimento a tema\, scenari 
 da brivido!\nE durante le serate ci saranno spettacoli di danza\, musica e
  fuoco\nConcorso dell'abito e dell'accessorio da strega più belli\nRicord
 ati di preparare il tuo!\n\nA PROPOSITO DI TORRITA TIBERINA\nDurante la se
 rata sarà accessibile la mostra dedicata ad Aldo Moro nelle sale dell'Arc
 hivio Memo\, un archivio storico-documetaristico\, presso il Palazzo Baron
 ale Savelli di Torrita Tiberina.\n\nCOME RAGGIUNGERCI:\nL'evento si terrà
  a Torrita Tiberina presso Piazza Don Agostino Mancini e Piazza Giacomo Ma
 tteotti\nEvento organizzato dall'Associazione Culturale Anima Verde con il
  Patrocinio del Comune di Torrita Tiberina\n\nSabato 5 e Domenica 6 Luglio
 \nDalle 17:00 alle 00:00\nINGRESSO LIBERO\n\nPer Info\nMail - nottestreghe
 torritatiberina@gmail.com\nWtsp - 328 2735489
ATTACH;FMTTYPE=image/jpeg:https://lazioeventi.com/wp-content/uploads/2025/
 06/notte-streghe-torrita.jpg
CATEGORIES:Fiere e Mercatini nel Lazio,Musica, Spettacoli e Danza nel
 Lazio,Sport, Tempo Libero e Divertimento nel Lazio,Varie
LOCATION:Torrita Tiberina\, Comune\, Torrita Tiberina\, Roma\, Lazio\, Ital
 ia
GEO:42.2368;12.6182
X-APPLE-STRUCTURED-LOCATION;VALUE=URI;X-ADDRESS=Comune\, Torrita Tiberina\,
  Roma\, Lazio\, Italia;X-APPLE-RADIUS=100;X-TITLE=Torrita Tiberina:geo:42.
 2368,12.6182
END:VEVENT
BEGIN:VTIMEZONE
TZID:Europe/Rome
X-LIC-LOCATION:Europe/Rome
BEGIN:DAYLIGHT
DTSTART:20250330T030000
TZOFFSETFROM:+0100
TZOFFSETTO:+0200
TZNAME:CEST
END:DAYLIGHT
END:VTIMEZONE
END:VCALENDAR