BEGIN:VCALENDAR
VERSION:2.0
PRODID:-//wp-events-plugin.com//7.2.3.1//EN
TZID:Europe/Rome
X-WR-TIMEZONE:Europe/Rome
BEGIN:VEVENT
UID:32746@lazioeventi.com
DTSTART;TZID=Europe/Rome:20221029T173000
DTEND;TZID=Europe/Rome:20221029T190000
DTSTAMP:20221018T073150Z
URL:https://lazioeventi.com/eventi/la-pace-scritti-di-lotta-contro-la-guer
 ra
SUMMARY:LA PACE - Scritti di lotta contro la guerra - Roma - 29 Ottobre 22 
 17:30
DESCRIPTION:Un tema di estrema attualità che è stato una costante ossessi
 va dell'esistenza di un grande intellettuale che si è speso con una ostin
 azione inesauribile\, generosa\, implacabile per una cultura di pace. LA P
 ACE. Scritti di lotta contro la guerra\, secondo Cesare Zavattini\, è l'a
 rgomento del saggio\, curato da Valentina Fortichiari ed edito da La Nave 
 di Teseo\, con postfazione di Gualtiero De Santi\, che sarà presentato a 
 Roma\, presso la sede dell'Archivio Audiovisivo del Movimento Operaio e De
 mocratico di cui lo stesso Zavattini fu primo presidente.\n\n \n\nNella sa
 la a lui dedicata\, sabato 29 ottobre alle ore 17:30\, la curatrice\, insi
 eme al direttore del Premio Zavattini Antonio Medici\, alla studiosa Stefa
 nia Parigi e alla produttrice cinematografica Marina Piperno\, dialogheran
 no sul volume di recente uscita\, un vero e proprio "atlante della Pace"\,
  composto di sceneggiature e idee per film\, interventi\, lettere pubblich
 e e messaggi agli amici\, con molti materiali inediti\, per raccontare l'i
 nstancabile contributo alla vita civile di un maestro della letteratura it
 aliana.\n\n \n\nUna raccolta di quarant'anni di impegno civile contro la g
 uerra\, tra invocazioni\, idee\, progetti\, interviste\, di appelli all'um
 anità\, di battaglie\, che vide ZA in prima linea con un impegno socio-po
 litico e un compito civile\, morale\, umanitario\, che oggi nessun protago
 nista della storia dopo Gandhi\, Martin Luther King\, Nelson Mandela\, né
  alcun opinionista o intellettuale del nostro Paese appare incline a perse
 guire con tanto accanimento.\n \n\nL'incontro\, ad ingresso libero fino ad
  esaurimento posti\, sarà introdotto dal presidente AAMOD\, Vincenzo Vita
 .\n\n\nIntroduce Vincenzo Vita (Presidente AAMOD)\nDialogano con la curatr
 ice:\nAntonio Medici - direttore del Premio Zavattini e della Scuola Gian 
 Maria Volontè\nStefania Parigi - Università Roma TRE\nMarina Piperno - P
 roduttrice cinematografica\n
ATTACH;FMTTYPE=image/jpeg:https://lazioeventi.com/wp-content/uploads/2022/
 10/aamod_invito_La-Pace.jpg
CATEGORIES:Arte e Cultura nel Lazio
LOCATION:Roma\, Via Leopardi\, Roma\, Roma\, Lazio\, Italia
GEO:41.8942;12.5017
X-APPLE-STRUCTURED-LOCATION;VALUE=URI;X-ADDRESS=Via Leopardi\, Roma\, Roma\
 , Lazio\, Italia;X-APPLE-RADIUS=100;X-TITLE=Roma:geo:41.8942,12.5017
END:VEVENT
BEGIN:VTIMEZONE
TZID:Europe/Rome
X-LIC-LOCATION:Europe/Rome
BEGIN:DAYLIGHT
DTSTART:20220327T030000
TZOFFSETFROM:+0100
TZOFFSETTO:+0200
TZNAME:CEST
END:DAYLIGHT
END:VTIMEZONE
END:VCALENDAR