BEGIN:VCALENDAR
VERSION:2.0
PRODID:-//wp-events-plugin.com//7.2.3.1//EN
TZID:Europe/Rome
X-WR-TIMEZONE:Europe/Rome
BEGIN:VEVENT
UID:34039@lazioeventi.com
DTSTART;TZID=Europe/Rome;VALUE=DATE:20230216
DTEND;TZID=Europe/Rome;VALUE=DATE:20230220
DTSTAMP:20230209T121627Z
URL:https://lazioeventi.com/eventi/la-papessa
SUMMARY:La Papessa - Roma - 16 Febbraio 23 00:00
DESCRIPTION:Monologo per attrice\n\nDal progetto teatrale multimediale “F
 ree Women suite”\n\nCon Beatrice Schiaffino\nMusiche di Alessandro Panat
 teri\nCostumi Loredana Redivo\nRegia di Carmen Di Marzo\n\n“La donna che
  vuole sapere è pericolosa.\nLa donna che sa è ancora più pericolosa…
 ”\n\nUn monologo intimo e avvincente scritto da Andrea Balzola\, che nar
 ra la storia della Papessa Giovanna\, la donna che ha sfidato ogni legge e
  dettame del suo tempo (IX secolo)\, pur di affermare la propria identità
 . In un’epoca in cui la donna era discriminata fin dalla nascita come in
 adatta alla cultura e alla spiritualità\, Giovanna si ribella\, studia\, 
 si spinge oltre ogni limite fingendosi anche uomo\, fino a rendere possibi
 le l’impossibile: diventare Papa con il nome di Giovanni VIII. A metà t
 ra storia e leggenda\, la figura della Papessa diventa archetipo collettiv
 o di coraggio e affermazione individuale\, di conoscenza e solidità\, com
 e suggerito anche dalla misteriosa Papessa dei Tarocchi.\n\nLa figura del 
 monaco Johannes Anglicus\, salita al soglio pontifico con il nome di Papa 
 Giovanni VIII (dall’853 all’855)\, è stata l’unica figura di papa d
 onna a lungo celata e volutamente oscurata per secoli dalla Chiesa Cattoli
 ca e poi riesumata dalla Riforma Protestante. Avvolta nella leggenda\, ha 
 lasciato tracce in molti documenti e anche in narrazioni eccellenti come 
 “Le storie di donne illustri” di Giovanni Boccaccio. Dopo le recenti c
 onferme storiche circa la sua esistenza (“Le pagine strappate” di Piet
 ro Ratto\, il ritrovamento di monete con la sua effige)\, il cinema e la l
 etteratura hanno riportato alla luce la sua storia.\n\nDurata spettacolo: 
 60 minuti\nAl termine dello spettacolo il consueto aperitivo offerto da Te
 atrosophia\n\nDate e Orari\nGiovedì\, Venerdì e Sabato ore 21 – Domeni
 ca 0re 18\n\nBiglietti:\nIntero: Euro 14\,00+4\,00 per tessera associativa
 \nRidotto: Euro 11\,00+4\,00 per tessera associativa\n\nhttps://www.youtub
 e.com/watch?v=3At_52vP-ac
ATTACH;FMTTYPE=image/jpeg:https://lazioeventi.com/wp-content/uploads/2023/
 02/La-papessa.jpg
CATEGORIES:Musica, Spettacoli e Danza nel Lazio
LOCATION:Roma\, Via Leopardi\, Roma\, Roma\, Lazio\, Italia
GEO:41.8942;12.5017
X-APPLE-STRUCTURED-LOCATION;VALUE=URI;X-ADDRESS=Via Leopardi\, Roma\, Roma\
 , Lazio\, Italia;X-APPLE-RADIUS=100;X-TITLE=Roma:geo:41.8942,12.5017
END:VEVENT
BEGIN:VTIMEZONE
TZID:Europe/Rome
X-LIC-LOCATION:Europe/Rome
BEGIN:STANDARD
DTSTART:20221030T020000
TZOFFSETFROM:+0200
TZOFFSETTO:+0100
TZNAME:CET
END:STANDARD
END:VTIMEZONE
END:VCALENDAR