BEGIN:VCALENDAR
VERSION:2.0
PRODID:-//wp-events-plugin.com//7.2.3.1//EN
TZID:Europe/Rome
X-WR-TIMEZONE:Europe/Rome
BEGIN:VEVENT
UID:33499@lazioeventi.com
DTSTART;TZID=Europe/Rome:20260301T130000
DTEND;TZID=Europe/Rome:20260301T160000
DTSTAMP:20260217T110757Z
URL:https://lazioeventi.com/eventi/la-polentata
SUMMARY:La Polentata - Torricella in Sabina - 1 Marzo 26 13:00
DESCRIPTION:Domenica 1° marzo appuntamento in Piazza della Croce tra sapor
 i autentici\, mercatini artigianali e l'arte di Fiorenzo Lucarelli. Prenot
 azioni aperte fino al 25 febbraio.\nI sapori genuini della tradizione sabi
 na tornano protagonisti con la 7ª edizione de "La Polentata". L'evento\, 
 organizzato dall'Associazione Pro-Loco di Oliveto Sabino\, si terrà domen
 ica 1° marzo 2026 nella cornice di Piazza della Croce.\n\nA partire dalle
  ore 13:00\, con l'apertura degli stand gastronomici\, il borgo si animer
 à per offrire ai visitatori un pranzo all'insegna della convivialità e d
 el buon cibo. L'evento è realizzato in collaborazione con l'Azienda Agric
 ola Mave e prevede posti a sedere al coperto\, garantendo il comfort dei p
 artecipanti anche in caso di maltempo.\n\nNon solo enogastronomia: la gior
 nata sarà arricchita dalla presenza di mercatini artigianali e stand di p
 rodotti locali\, offrendo una vetrina delle eccellenze del territorio. Un 
 tocco di cultura e colore sarà dato dalla presenza del pittore Fiorenzo L
 ucarelli\, che esporrà le sue opere durante la manifestazione.\n\nINFO PR
 ENOTAZIONI E SCADENZE\nPer partecipare all'evento è necessaria la prenota
 zione obbligatoria\, da effettuare entro e non oltre il 25 febbraio 2026. 
 Le iscrizioni saranno accolte fino ad esaurimento posti.\nL'organizzazione
  invita inoltre a comunicare\, al momento della prenotazione\, eventuali a
 llergie o celiachie per permettere la migliore accoglienza possibile.
ATTACH;FMTTYPE=image/jpeg:https://lazioeventi.com/wp-content/uploads/2022/
 12/polenta-oliveto-sabino.jpg
CATEGORIES:Sagre, Gastronomia e Tradizioni nel Lazio,Sport, Tempo Libero e
 Divertimento nel Lazio
LOCATION:Torricella in Sabina\, Comune di Torricella in Sabina\, Torricella
  in Sabina\, Rieti\, Lazio\, Italia
GEO:42.2608;12.8699
X-APPLE-STRUCTURED-LOCATION;VALUE=URI;X-ADDRESS=Comune di Torricella in Sab
 ina\, Torricella in Sabina\, Rieti\, Lazio\, Italia;X-APPLE-RADIUS=100;X-T
 ITLE=Torricella in Sabina:geo:42.2608,12.8699
END:VEVENT
BEGIN:VTIMEZONE
TZID:Europe/Rome
X-LIC-LOCATION:Europe/Rome
BEGIN:STANDARD
DTSTART:20251026T020000
TZOFFSETFROM:+0200
TZOFFSETTO:+0100
TZNAME:CET
END:STANDARD
END:VTIMEZONE
END:VCALENDAR