BEGIN:VCALENDAR
VERSION:2.0
PRODID:-//wp-events-plugin.com//7.2.3.1//EN
TZID:Europe/Rome
X-WR-TIMEZONE:Europe/Rome
BEGIN:VEVENT
UID:34317@lazioeventi.com
DTSTART;TZID=Europe/Rome:20230518T180000
DTEND;TZID=Europe/Rome:20230518T200000
DTSTAMP:20230301T074209Z
URL:https://lazioeventi.com/eventi/la-primavera-e-uno-spettacolo-next-gene
 ration
SUMMARY:La primavera è uno spettacolo - Rieti - 18 Maggio 23 18:00
DESCRIPTION:Riparte la rassegna musicale della Fondazione Varrone\, da marz
 o a maggio “La primavera è uno spettacolo”\n\nLa primavera è uno spe
 ttacolo: si chiama così la nuova rassegna concertistica della Fondazione 
 Varrone\, che da marzo a maggio accompagnerà la vita culturale della citt
 à offrendo anche a giovani e artisti reatini la possibilità di esibirsi 
 davanti al pubblico di casa.\n\n“E’ un cartellone che abbraccia generi
  musicali molto diversi\, così da rendere più ricca la proposta cultural
 e della Fondazione e più ampia la platea del pubblico interessato – dic
 e il presidente Mauro Trilli – Da Raffaella Carrà a Paolo Conte\, dalla
  canzone napoletana al tango c’è davvero tanta buona musica da ascoltar
 e senza  dimenticare esperienze di successo come Cantantibus organis\, la 
 rassegna che ha richiamato a San Giorgio grandi organisti da tutta Italia
 ”.\n\nDOVE E QUANDO. Punto di riferimento della rassegna è l’ex chies
 a di Largo San Giorgio\, il giorno della settimana scelto per i concerti 
 è il giovedì\, l’orario di inizio le 18.\n\nIL PROGRAMMA. \n\nIl 18 ma
 ggio spazio alla Next Generation\, ovvero la nuova generazione musicale re
 atina che si sta affacciando con successo sui palcoscenici italiani e non 
 solo. E’ il caso del flautista Emanuele Orsini\, due volte vincitore del
  concorso internazionale “Severino Gazzelloni”\, che si esibirà accom
 pagnato dalla pianista giapponese Hiromasa Tabata\; di Leonardo Bizzoni\, 
 clarinettista della Banda Sinfonica dell’Umbria\, e Gabriele Pirrotta\, 
 flautista anche lui\, professore d’orchestra con la Filarmonica Marchigi
 ana\, accompagnati al pianoforte da Aoi Nakamura. E ancora Gloria Santarel
 li e David Mancini\, duo pluripremiato in concorsi nazionali e internazion
 ali.\n\nChiude la rassegna il 25 maggio un coinvolgente Tributo a Paolo Co
 nte della band abruzzese diretta da Gianni Fidanza\, che propone i brani d
 i Conte arrangiati dallo stesso Fidanza con uno suo swing molto elegante g
 razie ad un gruppo di musicisti ormai rodatissimo che vede Ferdinando Pari
 s alla fisarmonica\, Antonio Bianchi alla batteria\, Luca Restaino alla ch
 itarra\, Fernando Paris al basso\, Antonio Gargaro al sax soprano e tenore
 \, Mimmo Matteucci al sax contralto e baritono\, Pietro Paolucci al sax te
 nore.\n\nINFO UTILI. \nTutti gli spettacoli sono ad ingresso libero fino a
 d esaurimento posti. \nIl programma e altre notizie sugli artisti e sulla 
 rassegna è su www.fondazionevarrone.it e sulla pagina Facebook della Fond
 azione Varrone.
ATTACH;FMTTYPE=image/jpeg:https://lazioeventi.com/wp-content/uploads/2023/
 03/primavera-spettacolo-rieti.jpg
CATEGORIES:Musica, Spettacoli e Danza nel Lazio
LOCATION:Rieti\, Comune di Rieti\, Rieti\, Rieti\, Lazio\, Italia
GEO:42.403;12.8609
X-APPLE-STRUCTURED-LOCATION;VALUE=URI;X-ADDRESS=Comune di Rieti\, Rieti\, R
 ieti\, Lazio\, Italia;X-APPLE-RADIUS=100;X-TITLE=Rieti:geo:42.403,12.8609
END:VEVENT
BEGIN:VTIMEZONE
TZID:Europe/Rome
X-LIC-LOCATION:Europe/Rome
BEGIN:DAYLIGHT
DTSTART:20230326T030000
TZOFFSETFROM:+0100
TZOFFSETTO:+0200
TZNAME:CEST
END:DAYLIGHT
END:VTIMEZONE
END:VCALENDAR