BEGIN:VCALENDAR
VERSION:2.0
PRODID:-//wp-events-plugin.com//7.2.3.1//EN
TZID:Europe/Rome
X-WR-TIMEZONE:Europe/Rome
BEGIN:VEVENT
UID:36900@lazioeventi.com
DTSTART;TZID=Europe/Rome;VALUE=DATE:20230909
DTEND;TZID=Europe/Rome;VALUE=DATE:20230924
DTSTAMP:20230902T070216Z
URL:https://lazioeventi.com/eventi/la-residenza-migr_azioni-ospita-lisa-ro
 samilia
SUMMARY:La Residenza Migr_Azioni ospita Lisa Rosamilia - Casperia - 9 Sette
 mbre 23 00:00
DESCRIPTION:La Residenza Migr_Azioni ospita la danzatrice e coreografa Lis
 a Rosamilia\n\nLa Residenza Multidisciplinare della Bassa Sabina ospita la
  residenza di danza e performance di Lisa Rosamilia per il progetto “M
 igr_Azioni” all’interno della Residenza Multidisciplinare della Bassa 
 Sabina - Terrarte 2023.\n\nIl Teatro delle Condizioni Avverse ha il piacer
 e di ospitare Lisa Rosamilia\, danzatrice e coreografa che sarà in resid
 enza dal 9 settembre al 23 settembre p.v. nel comune di Casperia (RI).\n\n
 Lisa Rosamilia è danzatrice e coreografa di esperienza nazionale e inter
 nazionale\, insegnante di danza\, scenografa\, pittrice\, costumista. Dire
 ttrice dal 2005 della Matroos DanceTheatre Company\, compagnia riconosciut
 a e promossa dall’Istituto Italiano di Cultura di Madrid nel 2022 e di I
 stanbul nel 2019. Partecipa a festival e teatri in Italia e all'estero\, c
 ome: l’IIC di Madrid in occasione della giornata internazionale della da
 nza\; il The Body Language di Venezia\; il Fringe Festival di Istanbul\; i
 l Festival Internazionale di Danza Contemporanea di Città del Messico FID
 CDMX\; il Coffi Festival Interdisciplinary Art di Berlino. Riceve diversi 
 riconoscimenti tra cui la Nomination alla Regia e il Premio Special Off al
  Roma Fringe Festival 2015 ed è invitata a partecipare come ospite specia
 le a varie rassegne di danza e teatro (Doit Festival\, Roma Contemporanea)
 . Direttrice artistica dello spazio per le arti performative Sala14 di Mon
 terotondo (Rm)\, dal 2001 insegna in varie scuole di Roma e provincia tra 
 cui il Balletto di Roma Kids e Stap Brancaccio.\n\nLa scelta attraverso l
 ’invito alla candidatura dell’artista è motivato dalla collaborazion
 e nata tra Fortezza EST e il Teatro delle Condizioni Avverse.\n\nIl proget
 to di Lisa Rosamilia rientra coerentemente nelle tematiche e negli obietti
 vi e nelle finalità inerenti alla residenza “Migr_Azioni” ed è stato
  motivo di interesse da parte del Teatro delle Condizioni Avverse e del tu
 tor del progetto Lidia Di Girolamo che ha instaurato un dialogo di scopert
 a e di attenzione per l’artista e il progetto scelto.\n\n“MigrAzioni
 ” è un progetto di Residenza Formativa\, nato dalla collaborazione con
  AIIG Associazione Italiana Insegnanti Geografia\, Università La Sapienza
 \, Università della Tuscia e Teatro delle Condizioni Avverse\, realizzato
  nel mese di luglio 2022 per l'edizione dell’anno ponte della Residenza 
 Multimediale della Bassa Sabina. Gli studenti universitari degli Atenei di
  Roma e Viterbo hanno partecipato ad un percorso residenziale\, attraverso
  lezioni e conferenze sulla geografia e i flussi migratori\, con l’inter
 vento di docenti universitari ed arricchito da un contributo artistico di 
 teatro e danza che esplorava questo tema. Il progetto è risultato idoneo 
 come tirocinio universitario per i partecipanti\, che hanno ottenuto i rel
 ativi Crediti Universitari Formativi.\n\nA partire da questa esperienza\,
  MigrAzioni vuole svilupparsi come residenza di ricerca artistica\, in cu
 i performer e danzatori possano creare un lavoro di studio sulla tematica 
 delle MigrAzioni e più nello specifico sugli aspetti dell’immigrazione/
 emigrazione in ambito geografico\, culturale e prettamente umano. Attraver
 so un lavoro di ricerca su questa tematica\, è stata invitata Lisa Rosami
 lia con il progetto intitolato SHIPWRECK 37°17'15.1"N 26°47'27.7"E___N
 erò.\n\nSHIPWRECK 37°17'15.1"N 26°47'27.7"E___Nerò è il progetto di 
 Matroos DanceTheatre Company\, di e con Lisa Rosamilia in collaborazione c
 on un contenitore\, uno spazio nello spazio\, un alveare\, un luogo a cui 
 si torna e da cui si parte. In questo microcosmo abita Nerò. Nerò è esp
 ressione di quello che sente\, è vento\, è acqua\, si muove in un mondo 
 che naufraga su una terra dai confini liquidi. Un corpo impreparato\, intr
 appolato nel margine di dogane sempre più sottili\, esilio di infinite gr
 ottesche zone di frontiera\, fin quando rimane solo lo smarrimento e un’
 idea sfocata della propria identità. La delimitazione spaziale all’inte
 rno di un’architettura scenografica cubica diviene esperienza di confine
 \, facendosi relitto sulle onde del mare\, approdo\, isola\, luogo della m
 emoria in cui il corpo attende. Tra le pareti di questa frontiera matura u
 n’esigenza di espansione\, si sfalda la linea che divide terra e mare: 
 é come naufragare su una terra non più ferma. Una miscela di disperazion
 e e desiderio\, paura e coraggio. Si è ciechi e allo stesso tempo visiona
 ri\, lo sguardo fende il buio\, scavalca l’orizzonte\, immagina costella
 zioni.
ATTACH;FMTTYPE=image/jpeg:https://lazioeventi.com/wp-content/uploads/2023/
 09/rosamilia.jpg
CATEGORIES:Musica, Spettacoli e Danza nel Lazio,Arte e Cultura nel Lazio
LOCATION:Casperia\, Comune di Casperia\, Casperia\, Rieti\, Lazio\, Italia
GEO:42.3381;12.6705
X-APPLE-STRUCTURED-LOCATION;VALUE=URI;X-ADDRESS=Comune di Casperia\, Casper
 ia\, Rieti\, Lazio\, Italia;X-APPLE-RADIUS=100;X-TITLE=Casperia:geo:42.338
 1,12.6705
END:VEVENT
BEGIN:VTIMEZONE
TZID:Europe/Rome
X-LIC-LOCATION:Europe/Rome
BEGIN:DAYLIGHT
DTSTART:20230326T030000
TZOFFSETFROM:+0100
TZOFFSETTO:+0200
TZNAME:CEST
END:DAYLIGHT
END:VTIMEZONE
END:VCALENDAR