BEGIN:VCALENDAR
VERSION:2.0
PRODID:-//wp-events-plugin.com//7.2.3.1//EN
TZID:Europe/Rome
X-WR-TIMEZONE:Europe/Rome
BEGIN:VEVENT
UID:28613@lazioeventi.com
DTSTART;TZID=Europe/Rome:20211009T171500
DTEND;TZID=Europe/Rome:20211009T191500
DTSTAMP:20211005T190120Z
URL:https://lazioeventi.com/eventi/la-roma-leggendaria-tra-miti-e-misteri-
 2
SUMMARY:La Roma leggendaria tra miti e misteri - Roma - 9 Ottobre 21 17:15
DESCRIPTION:LA ROMA LEGGENDARIA\nTra miti e misteri.\nVi condurrò in un in
 teressante passeggiata archeologica\, dove sveleremo le leggende legate al
 la\nnascita di Roma\, racconteremo aneddoti e curiosità che si intreccian
 o indissolubilmente con la\nstoria della Città Eterna.\nIl tour inizierà
  dall'Isola Tiberina\, la più piccola isola fluviale del mondo\, sede del
  tempio del dio\ndella medicina Esculapio.\nVi mostrerò il punto esatto d
 el Velabro (zona paludosa) dove si arenò la cesta dei gemelli Romolo e\nR
 emo ripercorreremo la leggenda dei due fratelli divini nati dall’unione 
 della Vestale Rea Silvia e\nMarte il dio della guerra giusta.\nAttraverser
 emo poi una zona ricca di fascino e mistero\, gli antichi fori Boario e Ol
 itorio\, gli antichi\nmercati della carne\, frutta e verdura dove svettano
  imponenti le rovine dei templi repubblicani\,\ngiungeremo poi all’antic
 a chiesa di. S. Maria in Cosmedin famosa in tutto il mondo perché conserv
 a\nall’interno del suo portico l’ antico mascherone\, la BOCCA DELLA V
 ERITA’\, oggetto che gode di\nfama antica e leggendaria a cui veniva att
 ribuito il potere di pronunciare oracoli.\nArriveremo poi davanti alla chi
 esa di S.Giorgio in Velabro\, interessante chiesa medievale che sorge\nsub
 ito dopo L’Arco di Giano e accanto all’arco degli Argentari.\nPassando
  sotto le pendici del colle Palatino vi mostrerò dove era il lupercale\, 
 dove seconda la\ntradizione la lupa avrebbe allattato i due gemelli.\nRagg
 iungeremo infine Circo Massimo\, il più grande edificio per spettacoli de
 lla storia umana\, dove\nfiniremo in bellezza la nostra passeggiata.\n\nAP
 P.TO: PIAZZA SAN BARTOLOMEO.\n Durata visita guidata: 2h:00.\n Inizi
 o visita ore 17:15 – fine visita ore 19:15.\n Costo visita guidata: 1
 0euro adulti\, 5 euro ragazzi fino a 18 anni\, gratis bambini fino a\ndiec
 i anni.\n Eventuali auricolari: 2 euro a persona.\n Per prenotazione
  chiama il numero 335.81.45.599 Nunzia o scrivi alla mail:\nunzarbol@gmail
 .com specificando nome\, numero persone e recapito telefonico.\n*La prenot
 azione è indispensabile per ricevere conferma e per essere contattati in 
 caso di variazioni.
ATTACH;FMTTYPE=image/jpeg:https://lazioeventi.com/wp-content/uploads/2021/
 10/FORO-BOARIO.jpg
CATEGORIES:Arte e Cultura nel Lazio
LOCATION:Roma\, Via Leopardi\, Roma\, Roma\, Lazio\, Italia
GEO:41.8942;12.5017
X-APPLE-STRUCTURED-LOCATION;VALUE=URI;X-ADDRESS=Via Leopardi\, Roma\, Roma\
 , Lazio\, Italia;X-APPLE-RADIUS=100;X-TITLE=Roma:geo:41.8942,12.5017
END:VEVENT
BEGIN:VTIMEZONE
TZID:Europe/Rome
X-LIC-LOCATION:Europe/Rome
BEGIN:DAYLIGHT
DTSTART:20210328T030000
TZOFFSETFROM:+0100
TZOFFSETTO:+0200
TZNAME:CEST
END:DAYLIGHT
END:VTIMEZONE
END:VCALENDAR