BEGIN:VCALENDAR
VERSION:2.0
PRODID:-//wp-events-plugin.com//7.2.3.1//EN
TZID:Europe/Rome
X-WR-TIMEZONE:Europe/Rome
BEGIN:VEVENT
UID:27763@lazioeventi.com
DTSTART;TZID=Europe/Rome:20201004T190000
DTEND;TZID=Europe/Rome:20201004T203000
DTSTAMP:20200925T195411Z
URL:https://lazioeventi.com/eventi/la-romana-repubblica-quanno-er-popolo-d
 ivento-sovrano
SUMMARY:La Romana Repubblica – Quanno er popolo diventò sovrano - Roma -
  4 Ottobre 20 19:00
DESCRIPTION:La rappresentazione narra di una città\, Roma\, che per un att
 imo ha vissuto l’utopia di scrivere un’altra storia d’Italia\, ​un
 a ​storia che anticipava di cent’anni la nascita di un paese democrati
 co\, laico\, basato sulla sovranità popolar
ATTACH;FMTTYPE=image/jpeg:https://lazioeventi.com/wp-content/uploads/2020/
 09/repubblica-4.jpg
CATEGORIES:Musica, Spettacoli e Danza nel Lazio
LOCATION:Roma\, Via Leopardi\, Roma\, Roma\, Lazio\, Italia
GEO:41.8942;12.5017
X-APPLE-STRUCTURED-LOCATION;VALUE=URI;X-ADDRESS=Via Leopardi\, Roma\, Roma\
 , Lazio\, Italia;X-APPLE-RADIUS=100;X-TITLE=Roma:geo:41.8942,12.5017
END:VEVENT
BEGIN:VTIMEZONE
TZID:Europe/Rome
X-LIC-LOCATION:Europe/Rome
BEGIN:DAYLIGHT
DTSTART:20200329T030000
TZOFFSETFROM:+0100
TZOFFSETTO:+0200
TZNAME:CEST
END:DAYLIGHT
END:VTIMEZONE
END:VCALENDAR