BEGIN:VCALENDAR
VERSION:2.0
PRODID:-//wp-events-plugin.com//7.2.3.1//EN
TZID:Europe/Rome
X-WR-TIMEZONE:Europe/Rome
BEGIN:VEVENT
UID:32965@lazioeventi.com
DTSTART;TZID=Europe/Rome:20221112T173000
DTEND;TZID=Europe/Rome:20221112T190000
DTSTAMP:20221109T082735Z
URL:https://lazioeventi.com/eventi/la-rosa-di-dante-il-poeta-il-fiore-la-s
 anta
SUMMARY:La rosa di Dante. Il poeta\, il fiore\, la santa - Tarquinia - 12 N
 ovembre 22 17:30
DESCRIPTION:Un approfondito saggio strutturato\, come recita il sottotitolo
 \, su tre percorsi fondamentali: il poeta\, il fiore e la santa. “La ros
 a di Dante. Il poeta\, il fiore\, la santa” è titolo del libro scritto 
 dal giornalista e saggista Giuseppe Rescifina ed edito dalla storica tipog
 rafia “Silvio Pellico” di Montefiascone\, che sarà presentato (ingres
 so libero) a Tarquinia\, sabato 12 novembre\, alle 17\,30\, alla sala Sacc
 hetti\, al civico 4 di via dell’Archetto\, con la partecipazione della p
 residente dell’associazione culturale TusciaE20 – Viterbo Simonetta Pa
 cini. L’iniziativa è promossa dalla Società Tarquiniense d’Arte e St
 oria (STAS)\, in collaborazione con TusciaE20 – Viterbo e con il patroci
 nio del Ministero della Cultura (MiC).\n\nNel saggio Rescifina sviluppa tr
 e temi: Dante e il suo rapporto con il meraviglioso fiore: il simbolismo d
 ella rosa\, che ancora oggi caratterizza le moltissime specie\; la giovine
 tta viterbese dal nome Rosa\, vissuta nel XIII secolo\, santa per volere d
 i popolo per via della devozione dei viterbesi che dura da molti secoli. I
 l libro ripercorre il probabile viaggio di Dante a Roma in occasione del g
 iubileo del 1300\, il suo supposto soggiorno nella Tuscia\, gli episodi\, 
 i personaggi e i luoghi dei quali il poeta è venuto a conoscenza citati n
 elle tre cantiche\, ma anche le ipotetiche località e persone alle quali 
 il grande fiorentino accenna e che si suppone possano essere accostate al 
 viterbese. Il volume è impreziosito dalla copertina che riproduce l'incis
 ione del disegno di Adolf Kunst (1882-1937) il più importante e raffinato
  artista europeo del primo '900 e all'interno contiene ventiquattro Ex lib
 ris su Dante e la “Divina Commedia”\, opere di autori italiani e stran
 ieri appartenenti alla straordinaria collezione del bibliofilo Massimo Bat
 tolla.\n\nGiornalista\, saggista\, nonché autore di testi teatrali e di r
 icerche di Antropologia della religione\, Rescifina da anni si occupa dell
 e opere di Dante\, che ha anche interpretato in performances e diffuso in 
 "lectio". \nNel 2015\, per i tipi della “Serena Editrice” di Viterbo\,
  ha pubblicato il saggio “Dante e la Tuscia. Personaggi\, luoghi\, simbo
 li e un'ipotesi suggestiva”. Di origini siciliane\, è stato redattore e
  inviato del Giornale di Sicilia\; ha contribuito\, assieme ad un gruppo d
 i colleghi\, alla fondazione del Corriere di Viterbo\; ha lavorato per il 
 Corriere dell'Umbria e ha redatto numerosi servizi su realtà laziali\, um
 bre e toscane per il Corriere della Sera. La presentazione del libro sarà
  preceduta\, alle 17\, dalla premiazione dei sei studenti dell’IISS “V
 incenzo Cardarelli” di Tarquinia vincitori delle borse di studio per la 
 digitalizzazione del Centro Studi Cardarelliani conservato nell’archivio
  della STAS.\n
ATTACH;FMTTYPE=image/jpeg:https://lazioeventi.com/wp-content/uploads/2022/
 11/rosa-di-date.jpg
CATEGORIES:Arte e Cultura nel Lazio
LOCATION:Tarquinia\, Comune\, Tarquinia\, Viterbo\, Lazio\, Italia
GEO:42.2546;11.7584
X-APPLE-STRUCTURED-LOCATION;VALUE=URI;X-ADDRESS=Comune\, Tarquinia\, Viterb
 o\, Lazio\, Italia;X-APPLE-RADIUS=100;X-TITLE=Tarquinia:geo:42.2546,11.758
 4
END:VEVENT
BEGIN:VTIMEZONE
TZID:Europe/Rome
X-LIC-LOCATION:Europe/Rome
BEGIN:STANDARD
DTSTART:20221030T020000
TZOFFSETFROM:+0200
TZOFFSETTO:+0100
TZNAME:CET
END:STANDARD
END:VTIMEZONE
END:VCALENDAR