BEGIN:VCALENDAR
VERSION:2.0
PRODID:-//wp-events-plugin.com//7.2.3.1//EN
TZID:Europe/Rome
X-WR-TIMEZONE:Europe/Rome
BEGIN:VEVENT
UID:32891@lazioeventi.com
DTSTART;TZID=Europe/Rome:20221113T183000
DTEND;TZID=Europe/Rome:20221113T200000
DTSTAMP:20221101T130442Z
URL:https://lazioeventi.com/eventi/la-scoperta-del-dramma-musicale
SUMMARY:La scoperta del Dramma Musicale - Formello - 13 Novembre 22 18:30
DESCRIPTION:Il M° IVAN DONCHEV eseguirà sonate per pianoforte del grande 
 compositore tedesco Ludwig van Beethoven : "La scoperta del Dramma Musical
 e"\n\nQuesto terzo concerto fa parte del progetto “ BEETHOVEN a FORMELLO
  “ \, serie di dieci concerti sulle sonate di LvB \, che la nostra Assoc
 iazione presenta ed offre a tutti i cittadini ed agli appassionati della m
 usica colta nel triennio 2022-2024.\n\nIntrodurrà ed illustrerà l’even
 to il M° Alvaro Vatri\n\nL’ingresso è gratuito \; gradito un sostegno 
 volontario per il prosieguo della vita culturale della Associazione.\n\nSi
  raccomanda di effettuare la prenotazione al 334 6254764 o all’indirizzo
  email bernardo.pasquini @libero.it\n
ATTACH;FMTTYPE=image/jpeg:https://lazioeventi.com/wp-content/uploads/2022/
 11/beethoven-a-formello.jpg
CATEGORIES:Musica, Spettacoli e Danza nel Lazio
LOCATION:Formello\, Comune\, Formello\, Roma\, Lazio\, Italia
GEO:42.0801;12.4005
X-APPLE-STRUCTURED-LOCATION;VALUE=URI;X-ADDRESS=Comune\, Formello\, Roma\, 
 Lazio\, Italia;X-APPLE-RADIUS=100;X-TITLE=Formello:geo:42.0801,12.4005
END:VEVENT
BEGIN:VTIMEZONE
TZID:Europe/Rome
X-LIC-LOCATION:Europe/Rome
BEGIN:STANDARD
DTSTART:20221030T020000
TZOFFSETFROM:+0200
TZOFFSETTO:+0100
TZNAME:CET
END:STANDARD
END:VTIMEZONE
END:VCALENDAR