BEGIN:VCALENDAR
VERSION:2.0
PRODID:-//wp-events-plugin.com//7.2.3.1//EN
TZID:Europe/Rome
X-WR-TIMEZONE:Europe/Rome
BEGIN:VEVENT
UID:43032@lazioeventi.com
DTSTART;TZID=Europe/Rome:20251108T143000
DTEND;TZID=Europe/Rome:20251109T150000
DTSTAMP:20251106T222431Z
URL:https://lazioeventi.com/eventi/la-scuola-volonte-al-medfilm-festival
SUMMARY:La Scuola Volonté al MedFilm Festival - Roma - 8 Novembre 25 14:30
DESCRIPTION:La Scuola Volonté al MedFilm Festival 2025\ncon i cortometragg
 i di due allievi\,\npresenti anche nella giuria del Progetto Methexis\n\nF
 ALLITI di Pietro Macaione\nSabato 8 novembre 2025 - ore 14:30\n\nSONATA A 
 QUATTRO MANI di Tullio Edoardo Rocca\nDomenica 9 novembre 2025 - ore 14:30
 \n\nLa Scuola d’Arte Cinematografica Gian Maria Volonté sarà presente 
 al MedFilm Festival 2025 con due cortometraggi realizzati durante il Trien
 nio Formativo 2023-25. L’iniziativa\, giunta alla sua 31a edizione e in 
 programma a Roma dal 6 al 16 novembre\, ospiterà nella sezione Sguardi da
 l futuro\, dedicata ai nuovi sguardi del cinema europeo e mediterraneo\, l
 a proiezione dei film Falliti di Pietro Macaione e Sonata a quattro mani d
 i Tullio Edoardo Rocca\n\nI due registi sono inoltre stati invitati a far 
 parte della Giuria internazionale del Progetto Methexis\, un'iniziativa ch
 e coinvolge studenti e studentesse di cinema insieme ai detenuti e alle de
 tenute dei quattro istituti penitenziari di Roma-Rebibbia. La giuria\, sup
 portata dalle aree educative e dalle scuole attive negli istituti di pena\
 , avrà il compito di visionare i corti in concorso e assegnare due import
 anti riconoscimenti: il Premio Methexis per il Miglior Cortometraggio e il
  Premio Cervantes Roma al cortometraggio più innovativo.\n\nUna doppia pa
 rtecipazione\, dunque\, che conferma l’impegno della Scuola Volonté nel
  formare giovani professionisti pronti a inserirsi nei contesti culturali 
 e sociali contemporanei con uno sguardo critico e partecipato.\n\nFalliti\
 , diretto da Pietro Macaione\, sarà proiettato sabato 8 novembre alle ore
  14:30 presso The Space Cinema Moderno\, sala 4\, all’interno del Progra
 mma 1 della sezione Sguardi dal futuro. Il corto racconta tre percorsi gen
 erazionali in bilico tra ambizioni artistiche\, legami familiari e la rice
 rca disperata di riconoscimento. Una narrazione corale che mescola introsp
 ezione e realismo\, con una sensibilità per il dettaglio emotivo che si r
 iflette nell’estetica pulita e nel ritmo narrativo calibrato. Macaione\,
  classe 1996\, palermitano\, ha già alle spalle esperienze su set interna
 zionali come Indiana Jones e il quadrante del destino e The White Lotus.\n
 \nSonata a quattro mani\, diretto da Tullio Edoardo Rocca\, sarà proietta
 to domenica 9 novembre alle ore 14:30 presso The Space Cinema Moderno\, sa
 la 5\, come parte del Programma 2 della medesima sezione. Il film esplora 
 il complesso rapporto tra due fratelli\, uniti e divisi dalla musica e da 
 un passato familiare che chiede il conto. Con uno sguardo teso e profondo\
 , Rocca affronta il tema del sacrificio e della violenza latente negli aff
 etti più intimi\, costruendo una narrazione intensa\, visivamente potente
 \, sostenuta da una solida struttura drammaturgica. Dopo gli studi alla Sc
 uola Nazionale di Cinema di Cuba e diverse esperienze produttive\, Rocca s
 i è diplomato in regia presso la Scuola Volonté.\n\nEntrambe le opere so
 no state realizzate\, con la produzione esecutiva di Kimera Film\, nell’
 ambito delle attività esperienziali della Scuola d’Arte Cinematografica
  Gian Maria Volonté\, che accompagna i propri allievi e allieve anche nel
 la fase di accesso al circuito festivaliero: il corto Falliti è distribui
 to da Pathos Distribution\; il corto Sonata a quattro mani è distribuito 
 da Esen Studios.\n\nLa Scuola d’Arte Cinematografica Gian Maria Volonté
  è un Centro di formazione professionale della Regione Lazio\, dedicato a
 lle professioni del cinema. Il percorso formativo triennale\, gratuito\, 
 è cofinanziato dal Fondo Sociale Europeo e gestito tramite convenzione da
 lla società regionale LAZIOcrea S.p.A.\n\nScuola d’Arte Cinematografica
  Gian Maria Volonté\nVia Greve\, 61 – 00146 Roma – +39 06 6766 4893\n
 Largo Ascianghi\, 5 – 00153 Roma\nsegreteria@scuolavolonte.it\nwww.scuol
 avolonte.it\n
ATTACH;FMTTYPE=image/jpeg:https://lazioeventi.com/wp-content/uploads/2025/
 11/11_sonata-a-quattro-mani_interna.jpg
CATEGORIES:Musica, Spettacoli e Danza nel Lazio
LOCATION:Roma\, Via Leopardi\, Roma\, Roma\, Lazio\, Italia
GEO:41.8942;12.5017
X-APPLE-STRUCTURED-LOCATION;VALUE=URI;X-ADDRESS=Via Leopardi\, Roma\, Roma\
 , Lazio\, Italia;X-APPLE-RADIUS=100;X-TITLE=Roma:geo:41.8942,12.5017
END:VEVENT
BEGIN:VTIMEZONE
TZID:Europe/Rome
X-LIC-LOCATION:Europe/Rome
BEGIN:STANDARD
DTSTART:20251026T020000
TZOFFSETFROM:+0200
TZOFFSETTO:+0100
TZNAME:CET
END:STANDARD
END:VTIMEZONE
END:VCALENDAR