BEGIN:VCALENDAR
VERSION:2.0
PRODID:-//wp-events-plugin.com//7.2.3.1//EN
TZID:Europe/Rome
X-WR-TIMEZONE:Europe/Rome
BEGIN:VEVENT
UID:30282@lazioeventi.com
DTSTART;TZID=Europe/Rome:20220409T093000
DTEND;TZID=Europe/Rome:20220409T130000
DTSTAMP:20220330T091127Z
URL:https://lazioeventi.com/eventi/la-selva-oscura
SUMMARY:La Selva Oscura - Magliano Romano - 9 Aprile 22 09:30
DESCRIPTION:Viaggio attraverso le bellezze naturali di Magliano Romano ed o
 ra valorizzate affinché tutti possano apprezzarle e viverle in un esperie
 nza poetica...\n\nPasseggiata livello facile\nsentiero 211 del ParcoDiVeio
 \nLuogo di incontro: piazza Risorgimento davanti il Municipio alle h 09:30
 \nConsigliato calzature da trekking ed acqua 1lt\n\nIl percorso è adatto 
 ai bambini accompagnati dai genitori.\n\nDurante la visita verranno effett
 uate delle soste lungo il sentiero in prossimità di alcune installazioni 
 "letterarie" per la loro divulgazione e spiegazione.
ATTACH;FMTTYPE=image/jpeg:https://lazioeventi.com/wp-content/uploads/2022/
 03/selva-oscura.jpg
CATEGORIES:Sport, Tempo Libero e Divertimento nel Lazio
LOCATION:Magliano Romano\, Comune\, Magliano Romano\, Roma\, Lazio\, Italia
GEO:42.1597;12.4363
X-APPLE-STRUCTURED-LOCATION;VALUE=URI;X-ADDRESS=Comune\, Magliano Romano\, 
 Roma\, Lazio\, Italia;X-APPLE-RADIUS=100;X-TITLE=Magliano Romano:geo:42.15
 97,12.4363
END:VEVENT
BEGIN:VTIMEZONE
TZID:Europe/Rome
X-LIC-LOCATION:Europe/Rome
BEGIN:DAYLIGHT
DTSTART:20220327T030000
TZOFFSETFROM:+0100
TZOFFSETTO:+0200
TZNAME:CEST
END:DAYLIGHT
END:VTIMEZONE
END:VCALENDAR