BEGIN:VCALENDAR
VERSION:2.0
PRODID:-//wp-events-plugin.com//7.2.3.1//EN
TZID:Europe/Rome
X-WR-TIMEZONE:Europe/Rome
BEGIN:VEVENT
UID:39581@lazioeventi.com
DTSTART;TZID=Europe/Rome:20230724T190000
DTEND;TZID=Europe/Rome:20230728T230000
DTSTAMP:20240710T162212Z
URL:https://lazioeventi.com/eventi/la-serva-padrona-di-g-pergolesi-e-conos
 ci-te-stesso-di-l-de-filippi
SUMMARY:La Serva Padrona di G. Pergolesi e Conosci Te Stesso(?) di L. De Fi
 lippi - Vetralla - 24 Luglio 23 19:00
DESCRIPTION:Sabato 13 Luglio 2024\, il Teatro del Giardino Segreto di Vetra
 lla (VT) ospiterà una serata davvero speciale con due intermezzi imperdib
 ili\, tra cui una grande novità del 2024 di OperaExtravaganza APS.\n\nLa 
 serata inizierà alle ore 19:00 con una deliziosa apericena\, seguita da d
 ue straordinarie esibizioni:\n\nLa Serva Padrona\, un intermezzo buffo di 
 Giovanni Battista Pergolesi. Questa commedia leggera e brillante\, conside
 rata la prima opera buffa della storia\, racconta il riscatto di una donna
  capace di ribaltare la sua condizione con astuzia e determinazione.\n\nCo
 nosci Te Stesso(?)\,  di Luigi De Filippi \, presentato in prima assoluta.
  Questo intermezzo filosoficomico attinge alla Grecia antica ed è basato 
 sul grande filosofo Socrate e sulla sua poco filosofica moglie Santippe. L
 a storia ci restituisce l’immagine di un Socrate paziente e di una mogli
 e bisbetica e manesca\, ma in un’opera comica spesso si ribaltano le mot
 ivazioni. In Conosci Te Stesso\, Santippe ci spiega l’origine dei suoi m
 alumori: lei è esasperata dalla mancanza di riguardi di suo marito\, semp
 re pronto ad ascoltare tutti e ad accorgersi di tutti\, meno che di sua mo
 glie.\n\nContributo dei Soci 30€ (apericena + spettacolo)\n\nInfo. e con
 tatti\n    • Data: Sabato 13 luglio 2024\n    • Ora: 19:00 apericena
  – 21:00 inizio spettacolo \n    • Luogo: Teatro del Giardino Segreto
 \, Vetralla (VT)\n    • Whatsapp +39 3289546337\n    • info.operaextra
 vaganza@gmail.com | www.operaextravaganza.com\n
ATTACH;FMTTYPE=image/jpeg:https://lazioeventi.com/wp-content/uploads/2024/
 07/manifesto_conosci-testesso-luglio2024.jpg
CATEGORIES:Musica, Spettacoli e Danza nel Lazio
LOCATION:Vetralla\, Comune di Vetralla\, Vetralla\, Viterbo\, Lazio\, Itali
 a
GEO:42.321;12.0533
X-APPLE-STRUCTURED-LOCATION;VALUE=URI;X-ADDRESS=Comune di Vetralla\, Vetral
 la\, Viterbo\, Lazio\, Italia;X-APPLE-RADIUS=100;X-TITLE=Vetralla:geo:42.3
 21,12.0533
END:VEVENT
BEGIN:VTIMEZONE
TZID:Europe/Rome
X-LIC-LOCATION:Europe/Rome
BEGIN:DAYLIGHT
DTSTART:20230326T030000
TZOFFSETFROM:+0100
TZOFFSETTO:+0200
TZNAME:CEST
END:DAYLIGHT
END:VTIMEZONE
END:VCALENDAR