BEGIN:VCALENDAR
VERSION:2.0
PRODID:-//wp-events-plugin.com//7.2.3.1//EN
TZID:Europe/Rome
X-WR-TIMEZONE:Europe/Rome
BEGIN:VEVENT
UID:34361@lazioeventi.com
DTSTART;TZID=Europe/Rome:20241109T210000
DTEND;TZID=Europe/Rome:20241110T210000
DTSTAMP:20241022T103132Z
URL:https://lazioeventi.com/eventi/la-signora-degli-scarafaggi
SUMMARY:La Signora degli Scarafaggi - Roma - 9 Novembre 24 21:00
DESCRIPTION:1969. Una donna americana si trasferisce a New York per cercare
  lavoro. La città è in fermento per i moti di protesta giovanili\, il ra
 duno musicale di Woodstock e la guerra del Vietnam. I vicini sono giovani\
 , chiassosi\, e a causa di un buco nel muro comunicante con la loro cucina
 \, Mascia si ritrova la casa invasa dagli scarafaggi…\n\nQuando parliamo
  di scarafaggi il debito con Kafka appare naturale\, consequenziale. In qu
 esto monologo esistenzialista\, gotico\, melodrammatico e con caratteri fi
 abeschi\, il personaggio è in continuo conflitto con una collettività ch
 e lo relega ai margini. Procede tra insicurezze e angoscia rivolgendosi do
 mande cui non giungono mai risposte esaustive. Interrogativi che\, solleci
 tati da un forte risentimento\, lentamente consumano la protagonista. \n\n
 Questo atto unico non si pone tanto il problema morale del bene e del male
 \, come nel “sottosuolo dostoevskiano”\, quanto quello della condizion
 e di segregazione\, rifiuto\, cui sono relegati coloro che non riescono a 
 integrarsi nella società.\n\nIl 1969 è stato l’anno dello sbarco sulla
  luna\, della guerra del Vietnam\, del raduno musicale di Woodstock\, dell
 e rivolte e dei movimenti studenteschi per i diritti civili e contro la gu
 erra\, dell’“immaginazione al potere”.\n\nEd è proprio l’immagina
 zione che caratterizza il personaggio di Mascia. Un’immaginazione molto 
 diversa da quei giovani: alterata\, malata. A lei non interessa l’atterr
 aggio sulla luna\, non sopporta la musica rock\, non le importa del Vietna
 m e tanto meno delle lotte politico sociali che infiammano il suo tempo.  
 Lei non lotta contro l’establishment\, “non porta margherite nei capel
 li\, non si ciba di bacche e lamponi”\, non fuma marjuana.\n\nMascia De 
 Gregorio desidera soltanto essere integrata\, accolta\, amata. \n\n“La s
 ignora degli scarafaggi” è il canto dei reietti\, degli outsider\, dei 
 “senza un posto nel mondo”.  Dedicato a tutti quelli che non ce la fan
 no.\n \n\nLA SIGNORA DEGLI SCARAFAGGI \nATTO UNICO (monologo)\nScritto e d
 iretto da Fabrizio Ansaldo\n\nPersonaggi: \nMascia De Gregorio\n \nInterpr
 ete: \nCristina Frioni\n \nMusiche \nComposte ed eseguite dal vivo al pian
 oforte da Luana Baroni \n\nLA SIGNORA DEGLI SCARAFAGGI \ndi Fabrizio Ansal
 do\n- SABATO 9 NOVEMBRE 2024 h 21:00\n- DOMENICA 10 NOVEMBRE 2024 h 18:00\
 n\nFermata Colosseo METRO B\nPrenotazioni necessarie SU WHATSAPP\n\nBiglie
 tti 12€ + 3€ (tessera associativa)\nCon CRISTINA FRIONI e LUANA BARONI
  al piano \nLuci: MARTA STORNI
ATTACH;FMTTYPE=image/jpeg:https://lazioeventi.com/wp-content/uploads/2023/
 03/Locandina-La-signora-degli-scarafaggi-e1699269607928.jpg
CATEGORIES:Musica, Spettacoli e Danza nel Lazio
LOCATION:Roma\, Via Leopardi\, Roma\, Roma\, Lazio\, Italia
GEO:41.8942;12.5017
X-APPLE-STRUCTURED-LOCATION;VALUE=URI;X-ADDRESS=Via Leopardi\, Roma\, Roma\
 , Lazio\, Italia;X-APPLE-RADIUS=100;X-TITLE=Roma:geo:41.8942,12.5017
END:VEVENT
BEGIN:VTIMEZONE
TZID:Europe/Rome
X-LIC-LOCATION:Europe/Rome
BEGIN:STANDARD
DTSTART:20241027T020000
TZOFFSETFROM:+0200
TZOFFSETTO:+0100
TZNAME:CET
END:STANDARD
END:VTIMEZONE
END:VCALENDAR