BEGIN:VCALENDAR
VERSION:2.0
PRODID:-//wp-events-plugin.com//7.2.3.1//EN
TZID:Europe/Rome
X-WR-TIMEZONE:Europe/Rome
BEGIN:VEVENT
UID:35053@lazioeventi.com
DTSTART;TZID=Europe/Rome:20230412T100000
DTEND;TZID=Europe/Rome:20230507T190000
DTSTAMP:20230412T215606Z
URL:https://lazioeventi.com/eventi/la-storia-di-olivetti-architettura-prod
 otti-comunicazione
SUMMARY:La Storia di Olivetti. Architettura\, Prodotti\, Comunicazione - Ro
 ma - 12 Aprile 23 10:00
DESCRIPTION:Dal 12 aprile al 7 maggio 2023\, il WeGil di Roma\, hub cultura
 le della Regione Lazio gestito dalla società regionale LAZIOcrea nel quar
 tiere Trastevere\, ospita la mostra “La Storia di Olivetti. Architettura
 \, Prodotti\, Comunicazione”\, un progetto\, curato dall'Associazione Ar
 chivio Storico Olivetti. La mostra\, patrocinata dalla Fondazione Adriano 
 Olivetti\, Museimpresa\, World Design Organization\, Cappelli Identity Des
 ign\, BiblHub Sapienza\, OlivettiPerTutti\, Federturismo\, Confindustria C
 anavese è anche l'occasione per organizzare diversi eventi dal vivo: talk
  e incontri che permetteranno ai visitatori di scoprire in dettaglio i tra
 tti unici dell’esperienza olivettiana e la proiezione dei 2 documentari 
 “Prospettiva Olivetti” e Paradigma Olivetti” del regista Davide Maff
 ei. \n\nGrande rilevanza del capitale umano e dei giovani\, l’attenzione
  continua per i beni immateriali (il marchio\, la reputazione e la comunic
 azione)\, la multidisciplinarietà (con la presenza di letterati\, sociolo
 gi\, psicologi\, designer\, pubblicitari\, registi e musicisti)\, il confr
 onto con i casi di successo internazionale\, la curiosità per il nuovo in
  tutti i campi d’azione\, nuovi modelli organizzativi\, la strategia glo
 cal (da Ivrea nel mondo)\, il culto della bellezza. La bellezza è stata i
 l meccanismo che ha condizionato e influenzato tutti i percorsi olivettian
 i\, riflettendosi su prodotti\, architetture\, comunicazione\, brand. \n\n
 Visione del futuro\, ricerca e libertà creativa\, intelligenza che innova
 \, coscienza sociale\, apertura sul mondo\, forma e tecnologia\, cultura d
 el cambiamento fanno parte del DNA Olivetti ma si possono ritenere un bene
  comune in un percorso universale tra innovazione e visione.  Il modello o
 livettiano di responsabilità sociale dell’impresa è stata un’esperie
 nza storica che può tradursi oggi in forme attive di imprenditoria e che 
 significa anzi tutto creare occasioni di conoscenza della storia di un ter
 ritorio e di interlocuzione con le fonti storiche di qualsiasi tipologia e
 sse siano (documentali\, orali\, visive\, digitali) per progettare il futu
 ro.\n\nL’Associazione Archivio Storico Olivetti conserva\, tutela e valo
 rizza manifesti\, prodotti\, fotografie\, filmati\, pubblicazioni\, disegn
 i storici\, senza contare gli oltre 21.000 titoli del catalogo della Bibli
 oteca\, che costituiscono repertori unici per raccontare la storia del nos
 tro Paese e del Made in Italy. \n\nLo stile Olivetti è una corsa all’ec
 cellenza\, una modalità unica di rappresentazione del DNA Olivetti che ha
  sempre contraddistinto l’azienda\, simbolo della storia industriale ita
 liana intorno al concetto di “human centricity”.  Il marchio è la pi
 ù importante sintesi visiva di un’azienda\, e nel nostro caso un patrim
 onio universale conosciuto non solo in Italia\, ma nel Mondo.\n\nÈ lo “
 Stile Olivetti” che ci portiamo dentro. Veniamo da un grande passato\, a
 bbiamo forti radici di cultura industriale che ci permettono di lavorare n
 el presente e una precisa idea dell’Uomo come centro del nostro interess
 e\, idea che costruisce una visione rinnovata del futuro.\n\nDa queste pre
 messe nasce l’esposizione\, suddivisa in diverse sezioni tematiche\, che
  mette in risalto l'eccellenza dello “Stile Olivetti” attraverso una s
 elezione di prodotti dal design iconico\, le campagne di comunicazione pi
 ù avanguardistiche ed un focus sulle architetture di Ivrea realizzate dal
 l’azienda Olivetti\, inserite nel 2018 sito “Ivrea\, Città Industrial
 e del XX secolo”\, nominato Patrimonio Mondiale dell'umanità UNESCO e m
 el 2022 Capitale Italiana del Libro.\n\nIl percorso espositivo\, tour dina
 mico tra fotografie\, manifesti e le proposte digitali dello storytelling 
 con cui l’Associazione Archivio Storico Olivetti valorizza ogni giorno i
 l patrimonio documentale unico della Olivetti\, racconterà come l’azion
 e dell’azienda fondata da Camillo Olivetti sia da sempre guidata dalla 
 “Human Centricity”\, valore fondamentale alla base dell'impegno espres
 so in favore di territorio e Comunità\, concretizzato nella realizzazione
  di politiche di welfare all'avanguardia e approccio vincente nella ricerc
 a per la creazione di prodotti davvero innovativi. \n\nIl manifesto della 
 mostra è un omaggio a uno dei grandi volti della storia olivettiana\, Gio
 vanni Pintori\, dal cui originale “Graphika” del 1957 è stata presa i
 spirazione.\n\nIngresso gratuito
ATTACH;FMTTYPE=image/jpeg:https://lazioeventi.com/wp-content/uploads/2023/
 04/storia-olivetti.jpg
CATEGORIES:Arte e Cultura nel Lazio
LOCATION:Roma\, Via Leopardi\, Roma\, Roma\, Lazio\, Italia
GEO:41.8942;12.5017
X-APPLE-STRUCTURED-LOCATION;VALUE=URI;X-ADDRESS=Via Leopardi\, Roma\, Roma\
 , Lazio\, Italia;X-APPLE-RADIUS=100;X-TITLE=Roma:geo:41.8942,12.5017
END:VEVENT
BEGIN:VTIMEZONE
TZID:Europe/Rome
X-LIC-LOCATION:Europe/Rome
BEGIN:DAYLIGHT
DTSTART:20230326T030000
TZOFFSETFROM:+0100
TZOFFSETTO:+0200
TZNAME:CEST
END:DAYLIGHT
END:VTIMEZONE
END:VCALENDAR