BEGIN:VCALENDAR
VERSION:2.0
PRODID:-//wp-events-plugin.com//7.2.3.1//EN
TZID:Europe/Rome
X-WR-TIMEZONE:Europe/Rome
BEGIN:VEVENT
UID:32302@lazioeventi.com
DTSTART;TZID=Europe/Rome:20240920T180000
DTEND;TZID=Europe/Rome:20240921T230000
DTSTAMP:20240916T073833Z
URL:https://lazioeventi.com/eventi/la-strada-del-vino-di-colli
SUMMARY:La Strada del Vino di Colli - Monte San Giovanni Campano - 20 Sette
 mbre 24 18:00
DESCRIPTION:Venerdì 20 Settembre e Sabato 21 Settembre c’è la XVII ediz
 ione de “La Strada del Vino di Colli”.\n\nLa Strada del Vino" è un ev
 ento organizzato dall'Associazione Culturale "Oasi dei Giovani"\, che si s
 volge ogni anno a Colli\, frazione di Monte San Giovanni Campano.\n\nUn ap
 puntamento per tutti coloro che amano il buon vino\, la buona musica e la 
 riscoperta di una sana convivialità. \nSaranno allestite cantine e vari p
 unti di ristoro\, oltre a stand con degustazioni e altri dedicati all'acqu
 isto di prodotti enogastronomici. \nLe cantine apriranno alle ore 18.\n\nL
 'evento è un allegro girovagare tra generazioni diverse pronte a gustare 
 vini locali e prelibatezze\, in un piccolo borgo per ridare vita e colore.
ATTACH;FMTTYPE=image/jpeg:https://lazioeventi.com/wp-content/uploads/2023/
 09/strada-vino-colli.jpg
CATEGORIES:Sagre, Gastronomia e Tradizioni nel Lazio
LOCATION:Monte San Giovanni Campano\, Comune di Monte San Giovanni Campano\
 , Monte San Giovanni Campano\, Frosinone\, Lazio\, Italia
GEO:41.6401;13.5154
X-APPLE-STRUCTURED-LOCATION;VALUE=URI;X-ADDRESS=Comune di Monte San Giovann
 i Campano\, Monte San Giovanni Campano\, Frosinone\, Lazio\, Italia;X-APPL
 E-RADIUS=100;X-TITLE=Monte San Giovanni Campano:geo:41.6401,13.5154
END:VEVENT
BEGIN:VTIMEZONE
TZID:Europe/Rome
X-LIC-LOCATION:Europe/Rome
BEGIN:DAYLIGHT
DTSTART:20240331T030000
TZOFFSETFROM:+0100
TZOFFSETTO:+0200
TZNAME:CEST
END:DAYLIGHT
END:VTIMEZONE
END:VCALENDAR