BEGIN:VCALENDAR
VERSION:2.0
PRODID:-//wp-events-plugin.com//7.2.3.1//EN
TZID:Europe/Rome
X-WR-TIMEZONE:Europe/Rome
BEGIN:VEVENT
UID:33510@lazioeventi.com
DTSTART;TZID=Europe/Rome:20221221T210000
DTEND;TZID=Europe/Rome:20221222T230000
DTSTAMP:20221220T102255Z
URL:https://lazioeventi.com/eventi/la-traviata-e-la-festa-dellopera-ensemb
 le
SUMMARY:La Traviata e la Festa dell'Opera Ensemble - Tarquinia - 21 Dicembr
 e 22 21:00
DESCRIPTION:Due serate all'insegna della musica lirica quelle in programma 
 mercoledì 21 dicembre e giovedì 22 presso il Teatro comunale "Rossella F
 alk". \n\nGli appuntamenti sono sempre alle 21.00 e gli ingressi sono libe
 ri.\n\nSi inizia domani con "La Traviata"\, opera in tre atti con musica d
 i Giuseppe Verdi con la protagonista\, Violetta\, interpretata dalla sopra
 no Sohyeong Kim.\n\nSi replica la sera successiva con la "Festa dell'Opera
  Ensamble"\, che darà l'occasione di ascoltare alcune delle arie delle op
 ere liriche più famose.
ATTACH;FMTTYPE=image/jpeg:https://lazioeventi.com/wp-content/uploads/2022/
 12/traviata-tarquinia.jpg
CATEGORIES:Musica, Spettacoli e Danza nel Lazio
LOCATION:Tarquinia\, Comune\, Tarquinia\, Viterbo\, Lazio\, Italia
GEO:42.2546;11.7584
X-APPLE-STRUCTURED-LOCATION;VALUE=URI;X-ADDRESS=Comune\, Tarquinia\, Viterb
 o\, Lazio\, Italia;X-APPLE-RADIUS=100;X-TITLE=Tarquinia:geo:42.2546,11.758
 4
END:VEVENT
BEGIN:VTIMEZONE
TZID:Europe/Rome
X-LIC-LOCATION:Europe/Rome
BEGIN:STANDARD
DTSTART:20221030T020000
TZOFFSETFROM:+0200
TZOFFSETTO:+0100
TZNAME:CET
END:STANDARD
END:VTIMEZONE
END:VCALENDAR