BEGIN:VCALENDAR
VERSION:2.0
PRODID:-//wp-events-plugin.com//7.2.3.1//EN
TZID:Europe/Rome
X-WR-TIMEZONE:Europe/Rome
BEGIN:VEVENT
UID:44272@lazioeventi.com
DTSTART;TZID=Europe/Rome:20260502T160000
DTEND;TZID=Europe/Rome:20260502T173000
DTSTAMP:20260422T141950Z
URL:https://lazioeventi.com/eventi/la-tua-vita-e-il-progetto-piu-important
 e
SUMMARY:La tua vita è il progetto più importante - Roma - 2 Maggio 26 16:
 00
DESCRIPTION:Sarà presentato il prossimo 2 maggio alle ore 16.00 nella pres
 tigiosa Sala della Protomoteca in Campidoglio il primo libro di Luca Papa 
 – celebre coach delle eccellenze italiane - “La tua vita è il progett
 o più importante - Personal Branding Coach”\, edito da Reality Book\, c
 asa editrice con una lunga tradizione editoriale\, che nel 2012 ha pubblic
 ato “Il grande almanacco di Karol Wojtyła”\, un’opera monumentale p
 er ampiezza e profondità\, dedicata alla figura di Giovanni Paolo II.\n\n
 La presentazione sarà curata dallo stesso autore\, che\, da sempre\, ama 
 realizzare progetti multidisciplinari capaci di mettere in dialogo linguag
 gi artistici differenti: l’evento\, infatti\, sarà aperto dal Coro Clus
 ter Roma di Elisabetta Nesca\, impreziosito dall’esposizione di alcune o
 pere pittoriche dell’artista Adrian Bol\, mentre Serena Ansidoni darà v
 oce ad una selezione di brani.\n\nIn un'epoca in cui il concetto di brand 
 non riguarda più soltanto prodotti e aziende\, ma coinvolge direttamente 
 la vita delle persone\, “La tua vita è il progetto più importante” s
 i presenta come un manuale narrativo e motivazionale capace di intrecciare
  esperienza personale e riflessione sociale. Luca Papa racconta il suo per
 corso partendo dalle radici nella borgata romana\, dove ha imparato presto
  che per emergere era necessario lottare\, per poi passare attraverso il m
 ondo dell’arte\, della danza\, dello spettacolo e infine della moda\, co
 n esperienze dirette in contesti di alto livello come Giorgio Armani e Fen
 di.\n\n“La tua vita è il progetto più importante”\, però non è sol
 o un semplice memoriale: ogni episodio diventa l'occasione per sottolinear
 e la possibilità di trasformare le difficoltà in risorse\, le cadute in 
 apprendimento\, le delusioni in nuovi punti di partenza.\n\nIl libro si pr
 opone come una guida per chiunque voglia costruire e comunicare la propria
  unicità nel mondo contemporaneo\, dominato da algoritmi\, social network
  e visibilità digitale. Papa insiste sul concetto che oggi il vero curric
 ulum è ciò che Google restituisce digitando il proprio nome\, e che la r
 eputazione online è ormai la moneta più preziosa del futuro. Da qui la n
 ecessità di sviluppare un personal brand autentico\, radicato nei propri 
 valori e capace di generare fiducia.\n\nNon solo strategie di comunicazion
 e\, dunque\, ma un invito a coltivare la consapevolezza personale: scoprir
 e ciò che ci rende irripetibili\, dare forma ai propri talenti\, trasform
 are passioni e competenze in un progetto di vita coerente.\n\nDurante la p
 resentazione interverranno: la direttrice dell’Accademia Nazionale di Da
 nza Anna Maria Galeotti\, il regista e pittore Adrian Bol\, l’attrice Yu
 liia Bol\, il direttore della fotografia Davide Manca\, il direttore creat
 ivo Max Melato - che ha collaborato con Disney -\, l’ex inviato de Le Ie
 ne Gabriele Broglia\, l’imprenditore digitale  Davide Mazzaro e il cont
 ent creator Brazo Crew.\n\nBreve Bio di Luca Papa \n\nLuca Papa è definit
 o il coach delle eccellenze italiane per il suo ruolo al fianco di persona
 lità di alto profilo nei processi decisionali\, nella crescita personale 
 e nelle strategie di posizionamento.\n\nLaureato in Teologia e in Counseli
 ng\, opera tra istituzioni\, arte\, cultura e comunicazione\, affiancando 
 professionisti di primo piano.\n\nTra le figure di rilievo che supporta fi
 gurano la direttrice dell’Accademia Nazionale di Danza di Roma Anna Mari
 a Galeotti\, il pioniere della chirurgia robotica mini-invasiva Giuseppe P
 edullà\, il presidente della Commissione Bilancio del Comune di Roma Lore
 nzo Marinone\, il direttore della fotografia Davide Manca\, il coreografo 
 internazionale Michael Fuscaldo e i content creator Leonardo Decarli e Bra
 zo Crew.\n\nÈ stato curatore e direttore artistico di eventi internaziona
 li\, tra cui la mostra personale di Adrian Bol presso il Museo dell’Ara 
 Pacis ed il “Cinematographer’s Brunch”.\n\nL’International Tour Fi
 lm Festival ha istituito in suo onore il premio “Eccellenze Italiane”\
 , affidandogli la selezione dei candidati e la premiazione.\n\nHa inoltre 
 avviato un progetto di coaching rivolto alla Polizia di Stato.
ATTACH;FMTTYPE=image/jpeg:https://lazioeventi.com/wp-content/uploads/2026/
 04/Luca-Papa-il-coach-delle-eccellenze-italiane.jpg
CATEGORIES:Arte e Cultura nel Lazio
LOCATION:Roma\, Via Leopardi\, Roma\, Roma\, Lazio\, Italia
GEO:41.8942;12.5017
X-APPLE-STRUCTURED-LOCATION;VALUE=URI;X-ADDRESS=Via Leopardi\, Roma\, Roma\
 , Lazio\, Italia;X-APPLE-RADIUS=100;X-TITLE=Roma:geo:41.8942,12.5017
END:VEVENT
BEGIN:VTIMEZONE
TZID:Europe/Rome
X-LIC-LOCATION:Europe/Rome
BEGIN:DAYLIGHT
DTSTART:20260329T030000
TZOFFSETFROM:+0100
TZOFFSETTO:+0200
TZNAME:CEST
END:DAYLIGHT
END:VTIMEZONE
END:VCALENDAR