BEGIN:VCALENDAR
VERSION:2.0
PRODID:-//wp-events-plugin.com//7.2.3.1//EN
TZID:Europe/Rome
X-WR-TIMEZONE:Europe/Rome
BEGIN:VEVENT
UID:34349@lazioeventi.com
DTSTART;TZID=Europe/Rome:20230304T180000
DTEND;TZID=Europe/Rome:20230304T200000
DTSTAMP:20230302T193715Z
URL:https://lazioeventi.com/eventi/la-valle-e-la-sua-gente
SUMMARY:La Valle e la sua Gente - Cassino - 4 Marzo 23 18:00
DESCRIPTION:Sabato 4 marzo alle 18:00\, presso il Palazzo della Cultura di 
 Cassino (Fr)\, incontro con  Lionello Prignani\, autore del libro “La Va
 lle e la sua Gente“. \n\nIl libro esamina lo sviluppo storico di quella 
 parte della Valle del Liri compresa tra Arce e Cassino\, una terra di conf
 ine tra Bizantini e Longobardi\, poi tra pontifici e imperiali\, e infine 
 tra Stato della Chiesa e regno di Sicilia. \n\nUna storia ricca di avvenim
 enti e personaggi che hanno plasmato la nostra terra e le nostre tradizion
 i.\n
ATTACH;FMTTYPE=image/jpeg:https://lazioeventi.com/wp-content/uploads/2023/
 03/valle_gente_cassino2023.jpg
CATEGORIES:Arte e Cultura nel Lazio
LOCATION:Cassino\, Comune di Cassino\, Cassino\, Frosinone\, Lazio\, Italia
GEO:41.4929518;13.830372300000022
X-APPLE-STRUCTURED-LOCATION;VALUE=URI;X-ADDRESS=Comune di Cassino\, Cassino
 \, Frosinone\, Lazio\, Italia;X-APPLE-RADIUS=100;X-TITLE=Cassino:geo:41.49
 29518,13.830372300000022
END:VEVENT
BEGIN:VTIMEZONE
TZID:Europe/Rome
X-LIC-LOCATION:Europe/Rome
BEGIN:STANDARD
DTSTART:20221030T020000
TZOFFSETFROM:+0200
TZOFFSETTO:+0100
TZNAME:CET
END:STANDARD
END:VTIMEZONE
END:VCALENDAR