BEGIN:VCALENDAR
VERSION:2.0
PRODID:-//wp-events-plugin.com//7.2.3.1//EN
TZID:Europe/Rome
X-WR-TIMEZONE:Europe/Rome
BEGIN:VEVENT
UID:29290@lazioeventi.com
DTSTART;TZID=Europe/Rome:20211121T110000
DTEND;TZID=Europe/Rome:20211121T130000
DTSTAMP:20211117T194735Z
URL:https://lazioeventi.com/eventi/la-via-appia-antica-a-piedi-dal-ii-al-i
 v-miglio
SUMMARY:La Via Appia Antica a Piedi dal II al IV miglio - Roma - 21 Novembr
 e 21 11:00
DESCRIPTION:Considerata sin dall’antichità la “Regina di tutte le stra
 de”\, la Via Appia Antica\, voluta dal censore Appio Claudio Cieco nel 3
 12 a.C.\, trasportava soldati\, carri\, merci e pellegrini verso i territo
 ri a sud di Roma. Una passeggiata lungo questa strada\, che ha visto milia
 rdi di persone percorrerla\, sarà un’esperienza unica nella vostra vita
 : avrete la possibilità di visitare un parco archeologico e naturalistico
  unico al mondo. Si esploreranno tombe romane antichissime\, il Circo e la
  Villa privata dell’Imperatore Massenzio\, il Castello dei Caetani e\, n
 on da ultimo\, si poseranno i piedi realmente sulla storia di Roma perché
  potremo camminare su alcuni tratti ben conservati di basolato romano orig
 inale\, la strada a grandi lastre ancora impressa dalle rotaie dei carri a
 ntichi che la percorrevano: un tuffo nel passato a 360 gradi!\n*(Testo ori
 ginale di Roma Caput Tour\, coloro che ancora una volta copieranno spudora
 tamente il testo descrittivo degli eventi di questa pagina saranno immedia
 tamente segnalati della violazione della proprietà intellettuale altrui a
 gli organi competenti)*\nAppuntamento ore 11.00 Via Appia Antica 136 front
 e Chiesa San Sebastiano: Cercare Bandiera Viola Logo Roma Caput Tour #nog
 reenpass\nDurata Visita Guidata 2 ore circa (2 km circa a piedi dal III al
  IV miglio con visita esterna ai monumenti del Circo di Massenzio\, Tomba 
 Cecilia Metella e Sepolcri del IV Miglio e visita interna alla Chiesa di S
  Sebastiano)\nCosto Visita Guidata € 13.00 (adulti)‚ € 5.00 (bambini
  5-13 anni) € 2.00 noleggio auricolari (Obbligatori per tutti per il man
 tenimento delle distanze di sicurezza).\nPer evitare qualsiasi contatto sa
 rà possibile anche saldare prima richiedendolo in fase di prenotazione\nP
 er semplicità si richiede il pagamento con quota esatta.\nIl sistema di m
 icrofono/auricolari\, che sarà OBBLIGATORIO per tutte le visite guidate\,
  consente di seguire tutte le spiegazioni della guida anche a notevoli dis
 tanze\, in modo da applicare tutte le misure di sicurezza previste dal dec
 reto con distanziamento sociale dei partecipanti all'attività.\nAd ogni p
 artecipante sarà fornito un radio trasmettitore sanificato\, un salvietti
 no igienizzante sigillato\, e un auricolare sterile usa e getta (diversame
 nte si potranno usare i propri auricolari del cellulare).\nPrenotazione Ob
 bligatoria scrivendo a info@romacaputour.it o inviando un sms allo 0039 33
 3 4854287 specificando Titolo della visita\, Nome\, Cognome\, Recapito tel
 efonico\, numero di persone\, e-mail di riferimento.
ATTACH;FMTTYPE=image/jpeg:https://lazioeventi.com/wp-content/uploads/2021/
 11/094753293-c0fb5e2f-6427-43ed-bab0-afba0cf843ee.jpg
CATEGORIES:Arte e Cultura nel Lazio
LOCATION:Roma\, Via Leopardi\, Roma\, Roma\, Lazio\, Italia
GEO:41.8942;12.5017
X-APPLE-STRUCTURED-LOCATION;VALUE=URI;X-ADDRESS=Via Leopardi\, Roma\, Roma\
 , Lazio\, Italia;X-APPLE-RADIUS=100;X-TITLE=Roma:geo:41.8942,12.5017
END:VEVENT
BEGIN:VTIMEZONE
TZID:Europe/Rome
X-LIC-LOCATION:Europe/Rome
BEGIN:STANDARD
DTSTART:20211031T020000
TZOFFSETFROM:+0200
TZOFFSETTO:+0100
TZNAME:CET
END:STANDARD
END:VTIMEZONE
END:VCALENDAR