BEGIN:VCALENDAR
VERSION:2.0
PRODID:-//wp-events-plugin.com//7.2.3.1//EN
TZID:Europe/Rome
X-WR-TIMEZONE:Europe/Rome
BEGIN:VEVENT
UID:43519@lazioeventi.com
DTSTART;TZID=Europe/Rome:20260117T090000
DTEND;TZID=Europe/Rome:20260117T154500
DTSTAMP:20260103T232653Z
URL:https://lazioeventi.com/eventi/la-via-appia-antica-da-santa-maria-dell
 e-mole-alla-villa-dei-quintili
SUMMARY:La via Appia Antica da Santa Maria delle Mole alla Villa dei Quinti
 li - Ciampino - 17 Gennaio 26 09:00
DESCRIPTION:Sabato 17 gennaio trek culturale sulla via Appia Antica\, una 
 via infinita\, ricca di tombe storiche e di testimonianze eterne. Per anda
 re oltre il sentiero…là dove i nostri padri ci hanno lasciato un’ered
 ità invidiata da tutto il mondo. Saremo all’interno del Parco Regionale
  dell’Appia Antica\, istituito nel 1988 dopo battaglie di cittadini e so
 prattutto di Antonio Cederna.  Oggi questo percorso è anche la 1° tapp
 a del Cammino naturale dei Parchi\, da Roma a L’Aquila\, della via Franc
 igena del sud e del Cammino di San Tommaso. Partiremo dalla stazione di S
 anta Maria delle Mole (Ciampino) siamo all’altezza del X miglio e da qu
 ì cammineremo a ritroso lungo la Regina Viarum. Incontreremo decine di t
 ombe piccole e grandi: famose e non. Passeremo nel punto in cui L'appia er
 a interrotta dal Gra (fino al 1999)\, arriveremo all'altezza della Villa d
 ei Quintili e da li' entreremo nel parco degli Acquedotti fino al laghetto
  di Roma vecchia. Siamo ormai vicini alle stazioni metro di Cinecittà e 
 Giulio Agricola. Questa nostra avventura nella Roma antica vedrà la pres
 enza di una guida turistica che ci racconterà (durante le brevi pause) de
 lle pillole storiche di quello che vedremo. \nLunghezza Km 13 circa Disli
 vello nullo\n\nAPPUNTAMENTO: alla stazione di Santa Maria delle Mole (Ciam
 pino) alle 9.00 Possibilità di arrivare con il treno in partenza da Rm Te
 rmini alle 8.28 (costo biglietto 1.50€)\n\nCOSA PORTARE: scarponcini da 
 trekking (morbidi e non rigidi) giacca antivento\; vestirsi a strati\; acq
 ua a sufficienza e pranzo al sacco .. il caffè e i dolcetti li offriamo n
 oi \n\nQUOTA DI PARTECIPAZIONE: \n15 € – Trek riservato ai soci dell
 ’Ass. Nomos Trek\nPer i non tesserati inviare comunicazione via tel/sms 
 etc… con i propri dati (Nome\, cognome\, luogo\, data di nascita e C.F.)
  entro le 18 del giorno precedente l’escursione\nINFORMAZIONI e PRENOTAZ
 IONI: (preferibilmente whatsapp)\nMarco Marini Cell 3478247257 \nGuida Am
 bientale escursionistica\nLaura De Angelis Cell 3455101698\nGuida Turistic
 a nazionale\nPer ricevere aggiornamenti sull’evento e vedere tutte le es
 cursioni:\n1) Mettere “parteciperò”\n2) Mettere “mi piace” alla p
 agina Nomos Trek – Escursioni e Trekking e cliccare sul tasto “segui
 ” – https://www.facebook.com/NomosTrek\n3) iscriversi al gruppo pubbl
 ico Nomos Trek- Associazione Escursionistica –https://www.facebook.com/g
 roups/341852695915250\n4) Chat Telegram https://t.me/+5JYvtRdqIH9jZDJk\n5
 ) https://www.tiktok.com/@nomostrek\n6) https://www.instagram.com/nomost
 rekescursioni/?hl=it\n7) https://twitter.com/nomos_trek\n Visita il sito
 : www.nomostrek.com\n9) https://whatsapp.com/channel/0029VaD7W1hGZNCxYwL
 H5C1Y\n10) https://www.threads.net/@marco71marini\n11) https://www.messe
 nger.com/channel/NomosTrek\n12) https://t.me/nomostrekescursioni\nL'inizi
 ativa è riservata ai soci in regola con l'iscrizione relativa all'anno 20
 26 ed in possesso della relativa tessera. Le Guide si riservano il diritto
  insindacabile di modificare il programma stabilito in caso di condizioni 
 meteorologiche avverse tali da rendere pericoloso l'itinerario\, in caso d
 i impraticabilità di un sentiero\, in caso di impossibilità di un partec
 ipante a continuare l'escursione.Si prega inoltre di avvertire gli accomp
 agnatori della presenza di eventuali patologie\, o di problematiche che po
 trebbero manifestarsi nel corso dell'escursione\, grazie per la collaboraz
 ione. 
ATTACH;FMTTYPE=image/jpeg:https://lazioeventi.com/wp-content/uploads/2026/
 01/607870420_1462188892577160_4434769736959881251_n.jpg
CATEGORIES:Sport, Tempo Libero e Divertimento nel Lazio
LOCATION:Ciampino\, Comune\, Ciampino\, Roma\, Lazio\, Italia
GEO:41.8004;12.5908
X-APPLE-STRUCTURED-LOCATION;VALUE=URI;X-ADDRESS=Comune\, Ciampino\, Roma\, 
 Lazio\, Italia;X-APPLE-RADIUS=100;X-TITLE=Ciampino:geo:41.8004,12.5908
END:VEVENT
BEGIN:VTIMEZONE
TZID:Europe/Rome
X-LIC-LOCATION:Europe/Rome
BEGIN:STANDARD
DTSTART:20251026T020000
TZOFFSETFROM:+0200
TZOFFSETTO:+0100
TZNAME:CET
END:STANDARD
END:VTIMEZONE
END:VCALENDAR