BEGIN:VCALENDAR
VERSION:2.0
PRODID:-//wp-events-plugin.com//7.2.3.1//EN
TZID:Europe/Rome
X-WR-TIMEZONE:Europe/Rome
BEGIN:VEVENT
UID:33658@lazioeventi.com
DTSTART;TZID=Europe/Rome:20230114T081500
DTEND;TZID=Europe/Rome:20230115T163000
DTSTAMP:20230104T092846Z
URL:https://lazioeventi.com/eventi/la-via-di-francesco-da-monterotondo-a-m
 ontelibretti
SUMMARY:La via di Francesco: da Monterotondo a Montelibretti - Monterotondo
  - 14 Gennaio 23 08:15
DESCRIPTION:La Via di Francesco “terza tappa”: da Monterotondo fino a M
 ontelibretti\, passando per la riserva naturale di Gattaceca . Un cammino 
 che\, attraverso la campagna romana\, caratterizzata da antichi casali ed 
 aziende agricole\, ci riporta in un recente passato quando per spostarsi s
 i usavano solo le gambe. Per la logistica useremo i mezzi pubblici\n\nKm 1
 8 Dislivello 400 m\n\nAppuntamento: Staz. Monterotondo alle 8.45 Potete p
 rendere il treno anche a : Tiburtina 8.16\, Nomentana 8.19\, Nuovo Salario
  8.25\, Fidene 8.29\, Settebagni 8.34. Poi dalla stazione di Monterotondo 
 prenderemo il Cotral per arrivare al paese e da li' inizieremo la nostra t
 appa.\nMunitevi di 2 biglietti Cotral da 1.10€\nTorneremo a Roma riprend
 endo il treno dalla stazione di Fara in sabina- Montelibretti\n\nCOSA PORT
 ARE: scarponcini da trekking(morbidi e non rigidi) giacca antivento\; vest
 irsi a strati\; acqua a sufficienza e pranzo al sacco .. il caffè lo off
 riamo noi\n\nQUOTA DI PARTECIPAZIONE: 15€ - Trek riservato ai soci Ass.N
 omos Trek\nPer i non tesserati inviare comunicazione via tel/sms etc... co
 n i propri dati (luogo e data di nascita) entro le 18 del giorno precedent
 e l'escursione al seguente numero 3478247257\n\nINFORMAZIONI e PRENOTAZION
 I: (preferibilmente whatsapp)\nMarco Marini\nGuida Ambientale escursionist
 ica\nCell 3478247257\nPer ricevere aggiornamenti sull'evento e vedere tutt
 e le escursioni:\n1) Mettere "parteciperò"\n2) Mettere “mi piace” all
 a pagina Nomos Trek - Escursioni e Trekking e cliccare sul tasto “segui
 ”\n3) iscriversi al gruppo pubblico Nomos Trek- Associazione Escursionis
 tica\n4) Chat Telegram https://t.me/+5JYvtRdqIH9jZDJk\n5) https://www.ti
 ktok.com/@nomostrek\n6)https://www.instagram.com/nomostrekescursioni/?hl=i
 t\n7) Visita il sito: www.nomostrek.com\n\nL’iniziativa è riservata ai
  soci in regola con l’iscrizione relativa all’anno 2023 ed in possesso
  della relativa tessera. Le Guide si riservano il diritto insindacabile di
  modificare il programma stabilito in caso di condizioni meteorologiche av
 verse tali da rendere pericoloso l’itinerario\, in caso di impraticabili
 tà di un sentiero\, in caso di impossibilità di un partecipante a contin
 uare l’escursione.\nSi prega inoltre di avvertire gli accompagnatori del
 la presenza di eventuali patologie\, o di problematiche che potrebbero man
 ifestarsi nel corso dell'escursione\, grazie per la collaborazione
ATTACH;FMTTYPE=image/jpeg:https://lazioeventi.com/wp-content/uploads/2023/
 01/monter.jpg
CATEGORIES:Sport, Tempo Libero e Divertimento nel Lazio
LOCATION:Monterotondo\, Comune di Monterotondo\, Monterotondo\, Roma\, Lazi
 o\, Italia
GEO:42.0517;12.6167
X-APPLE-STRUCTURED-LOCATION;VALUE=URI;X-ADDRESS=Comune di Monterotondo\, Mo
 nterotondo\, Roma\, Lazio\, Italia;X-APPLE-RADIUS=100;X-TITLE=Monterotondo
 :geo:42.0517,12.6167
END:VEVENT
BEGIN:VTIMEZONE
TZID:Europe/Rome
X-LIC-LOCATION:Europe/Rome
BEGIN:STANDARD
DTSTART:20221030T020000
TZOFFSETFROM:+0200
TZOFFSETTO:+0100
TZNAME:CET
END:STANDARD
END:VTIMEZONE
END:VCALENDAR