BEGIN:VCALENDAR
VERSION:2.0
PRODID:-//wp-events-plugin.com//7.2.3.1//EN
TZID:Europe/Rome
X-WR-TIMEZONE:Europe/Rome
BEGIN:VEVENT
UID:43072@lazioeventi.com
DTSTART;TZID=Europe/Rome:20251122T081500
DTEND;TZID=Europe/Rome:20251122T153000
DTSTAMP:20251112T075035Z
URL:https://lazioeventi.com/eventi/la-via-francigena-da-formello-a-la-stor
 ta-2
SUMMARY:La via Francigena da Formello a La Storta - Formello - 22 Novembre 
 25 08:15
DESCRIPTION:Sabato 22 novembre pellegrini per un giorno. Partiremo dal bor
 go di Formello. Il nome del paese deriva dal latino forma (condotta d’ac
 qua) a causa di una rete di cunicoli che servono a rifornire d’acqua il 
 territorio. Dopo aver ammirato La meridiana solare della Chiesa di S. Lore
 nzo risalente al 1795\, ci inoltreremo per sentieri e sterrate che condurr
 anno a scoprire la campagna romana\, per poi entrare nel parco di Veio\, 
 arrivare a Isola Farnese (dare un'occhiata alle sue bellezze) e da lì a L
 a Storta.\nKm 13 Dislivello 200 m \n\nAPPUNTAMENTO: ore 8.20 bar presso l
 a stazione fs de La Storta a pochi metri sulla Cassia prenderemo il cotr
 al per Formello\nmunirsi di biglietto da 1.10€\n\nCOSA PORTARE: scarponc
 ini da trekking giacca antivento\; vestirsi a strati\; acqua a sufficienz
 a e pranzo al sacco .. il caffè e i lo offriamo noi \n\nQUOTA SOCIALE:\
 nEscursione 15 € + Tessera Nomos Trek in corso di validità.\nPer i non 
 tesserati inviare comunicazione via tel/sms etc. con i propri dati (nome/c
 ognome\, luogo e data di nascita e cf) entro le 18 del giorno precedente l
 ’escursione\nIl solo “Parteciperò” messo all’evento non sarà pre
 so in considerazione se non si è poi contattata la guida.\n\nINFORMAZIONI
  e PRENOTAZIONI: (preferibilmente whatsapp)\nMarco Marini\nGuida Ambiental
 e escursionistica\nCell 3478247257 \n\nPer ricevere aggiornamenti sull’
 evento e vedere tutte le escursioni:\n1) Mettere “parteciperò”\n2) Me
 ttere “mi piace” alla pagina Nomos Trek – Escursioni e Trekking e cl
 iccare sul tasto “segui” – https://www.facebook.com/NomosTrek\n3) i
 scriversi al gruppo pubblico Nomos Trek- Associazione Escursionistica –h
 ttps://www.facebook.com/groups/341852695915250\n4) Chat Telegram https://
 t.me/+5JYvtRdqIH9jZDJk\n5) https://www.tiktok.com/@nomostrek\n6)https://w
 ww.instagram.com/nomostrekescursioni/?hl=it\n7)https://twitter.com/nomos_t
 rek\n8)Visita il sito: www.nomostrek.com\n9) https://whatsapp.com/channe
 l/0029VaD7W1hGZNCxYwLH5CY\n10) https://www.threads.net/@marco71marini\n11
 ) https://www.messenger.com/channel/NomosTrek\n12) https://t.me/nomostre
 kescursioni\nL’iniziativa è riservata ai soci in regola con l’iscrizi
 one relativa all’anno 2025 ed in possesso della relativa tessera. Le Gui
 de si riservano il diritto insindacabile di modificare il programma stabil
 ito in caso di condizioni meteorologiche avverse tali da rendere pericolos
 o l’itinerario\, in caso di impraticabilità di un sentiero\, in caso di
  impossibilità di un partecipante a continuare l’escursione.\nSi prega 
 inoltre di avvertire gli accompagnatori della presenza di eventuali patolo
 gie\, o di problematiche che potrebbero manifestarsi nel corso dell’escu
 rsione\, grazie per la collaborazione
ATTACH;FMTTYPE=image/jpeg:https://lazioeventi.com/wp-content/uploads/2025/
 11/formello.jpg
CATEGORIES:Sport, Tempo Libero e Divertimento nel Lazio
LOCATION:Formello\, Comune\, Formello\, Roma\, Lazio\, Italia
GEO:42.0801;12.4005
X-APPLE-STRUCTURED-LOCATION;VALUE=URI;X-ADDRESS=Comune\, Formello\, Roma\, 
 Lazio\, Italia;X-APPLE-RADIUS=100;X-TITLE=Formello:geo:42.0801,12.4005
END:VEVENT
BEGIN:VTIMEZONE
TZID:Europe/Rome
X-LIC-LOCATION:Europe/Rome
BEGIN:STANDARD
DTSTART:20251026T020000
TZOFFSETFROM:+0200
TZOFFSETTO:+0100
TZNAME:CET
END:STANDARD
END:VTIMEZONE
END:VCALENDAR