BEGIN:VCALENDAR
VERSION:2.0
PRODID:-//wp-events-plugin.com//7.2.3.1//EN
TZID:Europe/Rome
X-WR-TIMEZONE:Europe/Rome
BEGIN:VEVENT
UID:43917@lazioeventi.com
DTSTART;TZID=Europe/Rome:20260308T180000
DTEND;TZID=Europe/Rome:20260308T200000
DTSTAMP:20260304T101056Z
URL:https://lazioeventi.com/eventi/la-vita-non-sbaglia-mai-una-faccia-2
SUMMARY:I monologhi della vagina - Veroli - 8 Marzo 26 18:00
DESCRIPTION:Un doppio appuntamento il 7 e 8 marzo al Teatro Comunale Veroli
 \, con due spettacoli diversi\, per celebrare la Giornata Internazionale d
 ella Donna. L’8 marzo andrà in scena uno degli spettacoli più potenti 
 e discussi della drammaturgia contemporanea: “I monologhi della vagina
 ” di Eve Ensler.\n\nScritta nel 1996 e da allora portata alla ribalta ne
 i teatri di tutto il mondo\, l’opera non è soltanto una provocazione n
 é un espediente teatrale volto a trasformare l’organo riproduttivo femm
 inile in simbolo di emancipazione. È un atto di ascolto profondo. È un c
 oro di voci. È un manifesto di consapevolezza.\n\nNei folgoranti monologh
 i proposti\, ognuno legato alla storia di una donna diversa\, il testo div
 enta un inno alla conquista della propria individualità. Attraverso racco
 nti che spaziano dall’amore al sesso\, dallo stupro alle mestruazioni\, 
 dall’orgasmo alla mutilazione\, lo spettacolo attraversa senza filtri es
 perienze intime e universali\, restituendo dignità\, ironia\, dolore e fo
 rza al vissuto femminile.\n\nL’adattamento corale firmato dal regista Si
 mone Ignagni trasforma la scena in uno spazio di condivisione autentica\, 
 dove la parola si fa testimonianza e denuncia\, ma anche celebrazione dell
 ’importanza universale del Femminino e della Femminilità. Un viaggio te
 atrale che intreccia emozione e riflessione\, coinvolgendo il pubblico in 
 un confronto diretto con tematiche sociali ancora drammaticamente attuali.
 \n\nL’opera\, infatti\, ebbe la forza di generare movimenti internaziona
 li di sensibilizzazione contro la violenza sulle donne in anni in cui le g
 iornate dedicate erano ancora lontane dall’essere istituite. Il Teatro C
 omunale Veroli sceglie così di celebrare l’8 marzo non solo come ricorr
 enza simbolica\, ma come occasione concreta per affrontare tematiche socia
 li fondamentali\, attraverso la forza diretta e trasformativa del teatro.\
 n\nUn doppio appuntamento da non perdere. Per riflettere. Per emozionarsi.
 \n\nVi aspettiamo domenica 8 marzo alle ore 18.00 con apertura botteghino 
 alle 17.30.\n\nBIGLIETTO INTERO: € 10.00 \nBIGLIETTO RIDOTTO: € 7.00 (
 under 18/over 65)\n\nPer info e prenotazioni: 3513917931 \nteatrocomunalev
 eroli2019@gmail.com \n\n
ATTACH;FMTTYPE=image/jpeg:https://lazioeventi.com/wp-content/uploads/2026/
 03/dialoghi-vagina.jpeg
CATEGORIES:Musica, Spettacoli e Danza nel Lazio
LOCATION:Veroli\, Comune di Veroli\, Veroli\, Frosinone\, Lazio\, Italia
GEO:41.6911;13.4178
X-APPLE-STRUCTURED-LOCATION;VALUE=URI;X-ADDRESS=Comune di Veroli\, Veroli\,
  Frosinone\, Lazio\, Italia;X-APPLE-RADIUS=100;X-TITLE=Veroli:geo:41.6911,
 13.4178
END:VEVENT
BEGIN:VTIMEZONE
TZID:Europe/Rome
X-LIC-LOCATION:Europe/Rome
BEGIN:STANDARD
DTSTART:20251026T020000
TZOFFSETFROM:+0200
TZOFFSETTO:+0100
TZNAME:CET
END:STANDARD
END:VTIMEZONE
END:VCALENDAR