BEGIN:VCALENDAR
VERSION:2.0
PRODID:-//wp-events-plugin.com//7.2.3.1//EN
TZID:Europe/Rome
X-WR-TIMEZONE:Europe/Rome
BEGIN:VEVENT
UID:30643@lazioeventi.com
DTSTART;TZID=Europe/Rome:20220429T180000
DTEND;TZID=Europe/Rome:20220512T190000
DTSTAMP:20220426T185741Z
URL:https://lazioeventi.com/eventi/la-vitalita-della-materia-le-opere-di-c
 orinna-brandl-e-brigitte-cabell
SUMMARY:La vitalità della materia: le opere di Corinna Brandl e Brigitte C
 abell - Roma - 29 Aprile 22 18:00
DESCRIPTION:La vitalità della materia: le pitture di Corinna Brandl e le s
 culture di pietra di Brigitte Cabell\n\nA cura di Gianluca Carchia\n\nDal 
 29 aprile al 12 maggio 2022 Medina Roma Art Gallery presenta la mostra bi-
 personale di Arte Contemporanea di:\n\nCorinna Brandl e Brigitte Cabell La
  vitalità della materia: le opere di Corinna Brandl e Brigitte Cabell.\n\
 nL’evento di opening si terrà venerdì 29 aprile alle ore 18:00 con l
 ’inaugurazione dello storico dell’arte e curatore Gianluca Carchia. Co
 rinna Brandl e Brigitte Cabell\, rispettivamente pittrice e scultrice\, in
 dagano con la loro artele connessioni che esistono tra la materia e la sua
  forma per esprimere in senso vitalistico la potenza di questo rapporto. S
 e Brandl\, attraverso la sua pittura\, realizza quadri sia astratti che fi
 gurativi dove il fattore cromatico fa da padrone\, Cabell esegue sculture 
 dalla forte essenza geometrica e lineare. Colore\, cromia\, ritmo insieme 
 a linee essenziali\, mistiche e geometriche sono i moduli espressivi che c
 aratterizzano queste due artiste e che si possono osservare nelle sale del
 la Galleria Medina. La pittura e la scultura in un dialogo dalla forte car
 ica espressiva. Dove la pittura descrive esplosioni di vitalità dalla val
 enza espressionista\, la scultura invece descrive un processo intimo volto
  alla ricerca dell’essenzialità della materia. Proprio qui risiede la v
 italità della materia\, che si esprime in diverse modalità e che viene r
 iprodotta con diversi medium artistici. Dove la pittura rappresenta e raff
 igura\, la scultura toglie e semplifica\, entrambi per sintetizzare la for
 za vitale che plasma la materia artistica.\n\nIn breve:\n\nTitolo Mostra: 
 La vitalità della materia: le opere di Corinna Brandl e Brigitte Cabell\n
 \nArtista: Corinna Brandl e Brigitte Cabell\n\nOpening Mostra: venerdì 29
  aprile 2022 ore 18:00\, inaugura lo storico dell’arte e curatore Gianlu
 ca Carchia\n\nDurata Mostra: Dal 29 aprile al 12 maggio 2022\n\nLuogo: Med
 ina Art Gallery | Via Angelo Poliziano\, 32-34 | 00184 - Roma\n\n&nbsp\;\n
 \nContatti Medina Roma Art Gallery:\n\nEmail: info@medinaroma.com - Tel. +
 39 06 960 30 764\n\nWebsite: https://www.medinaroma.com/\n\nSocial: facebo
 ok.com/medinaroma.arte / instagram.com/medinaroma.arte\n\nOrario apertura:
  Dal lunedì al venerdì 10:00-13:00 e 15:00-19:00
ATTACH;FMTTYPE=image/jpeg:https://lazioeventi.com/wp-content/uploads/2022/
 04/2022_corinna_brigitte_medinaroma_graphics_2-square-A-1080x1080_web.jpg
CATEGORIES:Arte e Cultura nel Lazio
LOCATION:Roma\, Via Leopardi\, Roma\, Roma\, Lazio\, Italia
GEO:41.8942;12.5017
X-APPLE-STRUCTURED-LOCATION;VALUE=URI;X-ADDRESS=Via Leopardi\, Roma\, Roma\
 , Lazio\, Italia;X-APPLE-RADIUS=100;X-TITLE=Roma:geo:41.8942,12.5017
END:VEVENT
BEGIN:VTIMEZONE
TZID:Europe/Rome
X-LIC-LOCATION:Europe/Rome
BEGIN:DAYLIGHT
DTSTART:20220327T030000
TZOFFSETFROM:+0100
TZOFFSETTO:+0200
TZNAME:CEST
END:DAYLIGHT
END:VTIMEZONE
END:VCALENDAR