BEGIN:VCALENDAR
VERSION:2.0
PRODID:-//wp-events-plugin.com//7.2.3.1//EN
TZID:Europe/Rome
X-WR-TIMEZONE:Europe/Rome
BEGIN:VEVENT
UID:37776@lazioeventi.com
DTSTART;TZID=Europe/Rome:20231127T170000
DTEND;TZID=Europe/Rome:20231127T210000
DTSTAMP:20231113T121855Z
URL:https://lazioeventi.com/eventi/laboratorio-di-emmanuel-gallot-lavallee
SUMMARY:Laboratorio di Emmanuel Gallot-Lavallèe - Cassino - 27 Novembre 23
  17:00
DESCRIPTION:Il Centro Universitario Teatrale di Cassino APS propone il labo
 ratorio esperienziale dedicato alla “grammatica del gesto e della presen
 za nel mimo e nella commedia dell’arte”. \nIn cattedra un maestro d’
 eccezione: Emmanuel Gallot-Lavallèe\, attore e\, soprattutto\, formatore 
 d’arte clownesca e mimo\, che terrà due imperdibili lezioni\, in cui gl
 i allievi saranno chiamati a sperimentare e a mettersi “in gioco”.\n\n
 Le lezioni si terranno al Teatro Manzoni di Cassino\, i lunedì 13 e 27 no
 vembre 2023 dalle ore 17:00 alle ore 21:00. \nA queste seguiranno altre da
 te\, per una serie di appuntamenti che proseguirà per l’intera stagione
  dei corsi. Tali attività rientrano tra quelle previste dal progetto “U
 niversità degli attori” della “Scuola di attori” del CUT di Cassino
  APS\, diretta dal Maestro Giorgio Mennoia\, vincitore del bando della Reg
 ione Lazio “Vitamina G” di “Generazionigiovani.it”\, con il sosteg
 no della Regione Lazio e del Dipartimento della Gioventù e del Servizio C
 ivile Nazionale della Presidenza del Consiglio dei Ministri.\n\nLe due gio
 rnate di laboratorio esperienziale saranno aperte a chiunque sia interessa
 to alla poetica e alle tematiche legate alla pedagogia teatrale e alle sue
  potenzialità in ambito educativo\, sociale\, creativo e artistico e prop
 orranno ai partecipanti le tecniche e i metodi propri del mimo e alla comm
 edia dell’arte\, affrontando e approfondendo le poetiche legate a questi
  due generi teatrali. Con l’esperienza diretta si cercherà di far raggi
 ungere ai partecipanti quella profondità emotiva che può aiutare a compr
 endere l’emozionalità propria e quella dell’altro\, superando inoltre
  gli inciampi emotivi prodotti dalla paura del giudizio quali imbarazzo\, 
 scompostezza e rinuncia e cercando la “centratura di se stessi”\, indi
 spensabile al superamento delle proprie fragilità.\n\nDue appuntamenti\, 
 quelli proposti dal CUT di Cassino\, intensi\, divertenti e profondi al te
 mpo stesso\, che permetteranno di mettersi in gioco vivendo un’esperienz
 a capace di accogliere e accettare le proprie “imperfezioni” e perché
  no\, magari riderci un po’ sopra\, nel pieno spirito che da sempre cara
 tterizza l’attività del Centro universitario teatrale di Cassino. \n\nC
 entro di formazione\, ricerca e sperimentazione nel campo teatrale e della
  comunicazione\, il CUT\, infatti\, forma sì attori\, ma nella sua attivi
 tà trascende il significato di recitazione quale rappresentazione\, per a
 ndare più a fondo e portare gli allievi a scoprire in sé la capacità\, 
 insita nell’arte scenica\, di superare i limiti\, con se stessi\, con il
  palcoscenico e con il pubblico. \n\nPer prenotarsi o ricevere informazion
 i è possibile contattare il numero telefonico 345 3269623.
ATTACH;FMTTYPE=image/jpeg:https://lazioeventi.com/wp-content/uploads/2023/
 11/Laboratorio-di-Emmanuel-Gallot.jpg
CATEGORIES:Musica, Spettacoli e Danza nel Lazio,Varie
LOCATION:Cassino\, Comune di Cassino\, Cassino\, Frosinone\, Lazio\, Italia
GEO:41.4929518;13.830372300000022
X-APPLE-STRUCTURED-LOCATION;VALUE=URI;X-ADDRESS=Comune di Cassino\, Cassino
 \, Frosinone\, Lazio\, Italia;X-APPLE-RADIUS=100;X-TITLE=Cassino:geo:41.49
 29518,13.830372300000022
END:VEVENT
BEGIN:VTIMEZONE
TZID:Europe/Rome
X-LIC-LOCATION:Europe/Rome
BEGIN:STANDARD
DTSTART:20231029T020000
TZOFFSETFROM:+0200
TZOFFSETTO:+0100
TZNAME:CET
END:STANDARD
END:VTIMEZONE
END:VCALENDAR