BEGIN:VCALENDAR
VERSION:2.0
PRODID:-//wp-events-plugin.com//7.2.3.1//EN
TZID:Europe/Rome
X-WR-TIMEZONE:Europe/Rome
BEGIN:VEVENT
UID:35773@lazioeventi.com
DTSTART;TZID=Europe/Rome:20230610T103000
DTEND;TZID=Europe/Rome:20230610T130000
DTSTAMP:20230607T125247Z
URL:https://lazioeventi.com/eventi/laboratorio-didattico-per-scoprire-insi
 eme-la-filiera-della-lana
SUMMARY:Laboratorio didattico per scoprire insieme la filiera della lana - 
 Anguillara Sabazia - 10 Giugno 23 10:30
DESCRIPTION:Il 10 giugno al Museo Contadino di Anguillara “Laboratorio di
 dattico per scoprire insieme la filiera della lana”\n\nAttività a cura 
 di Officinae Lanificariae inserita nel calendario Tesori Naturali del Parc
 o di Bracciano-Martignano\n\nNuova iniziativa alla riscoperta dei saperi a
 ntichi sabato 10 giugno 2023 alle 10.30 ad Anguillara\, il borgo affacciat
 o sul lago di Bracciano\, al Museo della Civiltà Contadina e della Cultur
 a Popolare “Augusto Montori”. In programma infatti un originale labora
 torio didattico per scoprire insieme la filiera della lana a cura di Offic
 inae Lanificariae ed in particolare da Flaminia Bisceglia che da anni si d
 edica a tempo pieno alla scoperta di una magnifica materia prima come la l
 ana. \n\nVerrà illustrata l'intera filiera della lana nel suo ciclo compl
 eto\, dal vello tosato a quello lavato e a seguire\, si terrà una dimostr
 azione dei processi manuali di cardatura e filatura.\n\nI partecipanti pot
 ranno inoltre guardare e provare gli strumenti della trasformazione della 
 lana\, entrando ancora di più nel vivo della filiera divertendosi tra car
 de\, filatoio a ruota e fusi.\n\nIl laboratorio si chiuderà con un’atti
 vità didattica di stimolazione oculo-manuale mediante la realizzazione di
  un piccolo manufatto. In programma inoltre la lettura animata del libro "
 Attilio" che racconta della tosatura. \n\nMolto apprezzato inoltre lo spec
 iale kit che consente di “vestire” una pecorella di legno secondo il p
 roprio estro\, kit che resterà ai partecipanti. \n\nL’approccio ludico-
 sensoriale permetterà\, attraverso interazione e tatto\, anche di conosce
 rne molteplici tipologie di lana\, quella rustica o quella merinizzata pro
 veniente da razze ovine autoctone\, ma anche qualità diverse e pregiate p
 rovenienti da altri Paesi e perché no\, da altri animali quali yak o camm
 ello.\n\nL’attività è rivolta sia ad adulti che bambini\, è patrocina
 ta dal Comune di Anguillara Sabazia\, rientra nel calendario Tesori Natura
 li 2023 del Parco di Bracciano-Martignano ed è inserito nel percorso tra 
 artigianato\, ristorazione\, commercio e molto altro di Borgo Vivo\, la ne
 onata Aps che ha debuttato il 4 giugno nel centro storico con molte aspett
 ative di rilancio e condivisione. . \n\nE’ gradita la prenotazione al nu
 mero 360/805841 o alla e-mail associazionesabate1@tiscali.it\n\nQuota di p
 artecipazione: 15 euro omnicomprensive. 
ATTACH;FMTTYPE=image/jpeg:https://lazioeventi.com/wp-content/uploads/2023/
 06/Lana.jpeg
CATEGORIES:Varie
LOCATION:Anguillara Sabazia\, Comune\, Anguillara Sabazia\, Roma\, Lazio\, 
 Italia
GEO:42.0929;12.2698
X-APPLE-STRUCTURED-LOCATION;VALUE=URI;X-ADDRESS=Comune\, Anguillara Sabazia
 \, Roma\, Lazio\, Italia;X-APPLE-RADIUS=100;X-TITLE=Anguillara Sabazia:geo
 :42.0929,12.2698
END:VEVENT
BEGIN:VTIMEZONE
TZID:Europe/Rome
X-LIC-LOCATION:Europe/Rome
BEGIN:DAYLIGHT
DTSTART:20230326T030000
TZOFFSETFROM:+0100
TZOFFSETTO:+0200
TZNAME:CEST
END:DAYLIGHT
END:VTIMEZONE
END:VCALENDAR