BEGIN:VCALENDAR
VERSION:2.0
PRODID:-//wp-events-plugin.com//7.2.3.1//EN
TZID:Europe/Rome
X-WR-TIMEZONE:Europe/Rome
BEGIN:VEVENT
UID:33169@lazioeventi.com
DTSTART;TZID=Europe/Rome:20221126T100000
DTEND;TZID=Europe/Rome:20221126T130000
DTSTAMP:20221121T085007Z
URL:https://lazioeventi.com/eventi/laboratorio-gratuito-di-tessitura-neoli
 tica
SUMMARY:Laboratorio gratuito di Tessitura Neolitica - Anguillara Sabazia - 
 26 Novembre 22 10:00
DESCRIPTION:Il 26 Novembre 2022 Laboratorio gratuito di Tessitura Neolitica
  al Museo Contadino di Anguillara\nIniziativa promossa con il contributo d
 el Parco Bracciano-Martignano “Tesori Naturali 2022 – Lazio Eterna Sco
 perta”\n\nNuovo appuntamento sabato 26 novembre dalle 10 alle 13 al Muse
 o della Civiltà Contadina e della Cultura Popolare “Augusto Montori” 
 con il Laboratorio gratuito di Tessitura Neolitica organizzato dall’Asso
 ciazione Culturale Sabate in collaborazione con Manifatturerranti nell’a
 mbito del calendario di manifestazioni organizzato dal Parco di Bracciano-
 Martignano “Tesori Naturali 2022 – Lazio Eterna Scoperta”.\nRoberta 
 Denni di Manifatturerranti\, ispirandosi anche agli importanti ritrovament
 i fatti a seguito degli scavi subacquei del villaggio neolitico sommerso d
 ella Marmotta sui fondali del lago di Bracciano\, in prossimità di Anguil
 lara\, condurrà i partecipanti attraverso le tecniche di tessitura impieg
 ate 8mila anni fa. Tecniche millenarie ancora utili ed efficaci per autopr
 odurre tessuti\, sciarpe\, borse\, runner\, tovagliette e quanto altro si 
 voglia.\n\nL’approfondimento sulle tecniche neolitiche di tessitura si a
 ggiunge al Corso di telaio a pettine-liccio che si tiene\, sempre a cura d
 i Manifatturerranti\, il giovedì pomeriggio al Museo.\nUn novembre ricco 
 di appuntamenti per la struttura museale di Anguillara\, dopo le iniziativ
 a del 11 novembre “A San Martino ogni mosto diventa vino” in collabora
 zione con Progetto Enthus e quello del 12 novembre con “Castagne al Muse
 o”\, vedrà sabato 26 Novembre il Laboratorio di Tessitura Neolitica e i
 l 30 novembre una “Degustazione di Zuppa di Broccoletti” preceduta da 
 una visita guidata Museo Contadino.\n\nPer prenotare la propria partecipaz
 ione gratuita è possibile chiamare il 360/805841 o inviare un messaggio e
 mail a associazionesabate1@tiscali.it
ATTACH;FMTTYPE=image/jpeg:https://lazioeventi.com/wp-content/uploads/2022/
 11/telaio.jpg
CATEGORIES:Varie
LOCATION:Anguillara Sabazia\, Comune\, Anguillara Sabazia\, Roma\, Lazio\, 
 Italia
GEO:42.0929;12.2698
X-APPLE-STRUCTURED-LOCATION;VALUE=URI;X-ADDRESS=Comune\, Anguillara Sabazia
 \, Roma\, Lazio\, Italia;X-APPLE-RADIUS=100;X-TITLE=Anguillara Sabazia:geo
 :42.0929,12.2698
END:VEVENT
BEGIN:VTIMEZONE
TZID:Europe/Rome
X-LIC-LOCATION:Europe/Rome
BEGIN:STANDARD
DTSTART:20221030T020000
TZOFFSETFROM:+0200
TZOFFSETTO:+0100
TZNAME:CET
END:STANDARD
END:VTIMEZONE
END:VCALENDAR