BEGIN:VCALENDAR
VERSION:2.0
PRODID:-//wp-events-plugin.com//7.2.3.1//EN
TZID:Europe/Rome
X-WR-TIMEZONE:Europe/Rome
BEGIN:VEVENT
UID:40110@lazioeventi.com
DTSTART:20241116T140000Z
DTEND:20241116T163000Z
DTSTAMP:20241021T170524Z
URL:https://lazioeventi.com/eventi/laboratrio-di-espressione-corporea
SUMMARY:Laboratrio di Espressione corporea - Terracina - 16 Novembre 24 15:
 00
DESCRIPTION:AVETE VOGLIA DI LIBERARE LE VOSTRE EMOZIONI A RITMO DI MUSICA?\
 n\nVi proponiamo per Sabato 16 novembre dalle ore 15 presso la Fondazione 
 Gregorio Antonelli a Terracina un Laboratorio di espressione corporea e Da
 nza Libera con la bravissima e dolcissima Music Performer Francesca Rasi.\
 n\nAll’incontro sarà presente anche la dott.ssa Rachele Di Vezza per un
  approccio corpo-anima più profondo e dedicato.\n\nPRENOTATE fin da ora i
 l posto. Vi aspettiamo per danzare ed emozionarci insieme.
ATTACH;FMTTYPE=image/jpeg:https://lazioeventi.com/wp-content/uploads/2024/
 10/laboratorio-espressione.jpg
CATEGORIES:Varie
LOCATION:Terracina\, Comune\, Terracina\, Latina\, Lazio\, Italia
GEO:41.2912;13.2492
X-APPLE-STRUCTURED-LOCATION;VALUE=URI;X-ADDRESS=Comune\, Terracina\, Latina
 \, Lazio\, Italia;X-APPLE-RADIUS=100;X-TITLE=Terracina:geo:41.2912,13.2492
END:VEVENT
END:VCALENDAR