BEGIN:VCALENDAR
VERSION:2.0
PRODID:-//wp-events-plugin.com//7.2.3.1//EN
TZID:Europe/Rome
X-WR-TIMEZONE:Europe/Rome
BEGIN:VEVENT
UID:36906@lazioeventi.com
DTSTART;TZID=Europe/Rome:20230910T094500
DTEND;TZID=Europe/Rome:20230910T160000
DTSTAMP:20230903T140402Z
URL:https://lazioeventi.com/eventi/lago-di-vico-trek-pranzo-con-nomos-trek
SUMMARY:Lago di Vico : trek + pranzo con Nomos Trek - Ronciglione - 10 Sett
 embre 23 09:45
DESCRIPTION:Domenica 10 settembre tutti insieme per un trek di fine estate
   e per festeggiare il decennale dell'associazione. Vi faremo conoscere 
 la Riserva Naturale Lago di Vico\, la faggeta di monte Venere\, il pozzo
  del diavolo (la grotta vulcanica più grande della regione) ed infine per
 correremo un tratto della Francigena Cimina. Niente panino ma un gustoso p
 ranzo in stile Nomos tra i faggi del lago... dunque non mancate!\nDifficol
 tà T/E (media) Lunghezza km 10 circa Dislivello 350 m\n\nCOSA PORTARE: sc
 arponcini da trekking\; giacca antivento\; vestirsi a strati\; acqua a suf
 ficienza\; utili i bastoncini da trekking.\n\nAPPUNTAMENTO h 9.45 al bar (
 la casina del lago) nel complesso "La Bella Venere" sul lago di Vico alle 
 ore 09:45.\nhttps://goo.gl/maps/zCjj3qbmQ5zQbnfj6  Altri appuntamenti ci
  saranno nelle stazioni metro in base alle disponibilità delle auto. Indi
 cate la vostra al momento dell'iscrizione.\n\n\nQUOTA SOCIALE:\n Trek 15
 € + 20€ aperitivo + pranzo\, bevande e dolci\nMenù: Aperitivo finger 
 con snack\, rustici misti\, frittatine\, lasagne alla bolognese\, cocomero
 \, ciambellette al vino\, acqua\, vino\, caffè\, amari.\nAccontentiamo an
 che i vegetariani.\nTessera Nomos Trek 2023 in corso di validità\nPer i n
 on tesserati inviare comunicazione via tel/sms etc. con i propri dati (nom
 e/cognome\, luogo e data di nascita e cf) entro le 18 del giorno precedent
 e l'escursione\nAd ogni nuovo socio verrà rilasciata la tessera fedeltà 
 Nomos Trek. Dopo 9 escursioni che farete con noi la 10° sarà gratuita.\n
 Il solo "Parteciperò" messo all'evento non sarà preso in considerazione 
 se non si è poi contattata la guida.\n\nINFORMAZIONI e PRENOTAZIONI: (pre
 feribilmente whatsapp)\nMarco Marini Cell 3478247257\nMarco Di Nucci Cell 
 338 315 2734\n\nPer ricevere aggiornamenti sull'evento e vedere tutte le e
 scursioni:\n1) Mettere "parteciperò"\n2) Mettere “mi piace” alla pagi
 na Nomos Trek - Escursioni e Trekking e cliccare sul tasto “segui” - 
 https://www.facebook.com/NomosTrek\n3) iscriversi al gruppo pubblico Nomos
  Trek- Associazione Escursionistica -https://www.facebook.com/groups/34185
 2695915250\n4) Chat Telegram https://t.me/+5JYvtRdqIH9jZDJk\n5) https://
 www.tiktok.com/@nomostrek\n6) https://www.instagram.com/nomostrekescursio
 ni/?hl=it\n7) https://twitter.com/nomos_trek\n Visita il sito: www.nomo
 strek.com\n\nL’iniziativa è riservata ai soci in regola con l’iscrizi
 one relativa all’anno 2023 ed in possesso della relativa tessera. Le Gui
 de si riservano il diritto insindacabile di modificare il programma stabil
 ito in caso di condizioni meteorologiche avverse tali da rendere pericolos
 o l’itinerario\, in caso di impraticabilità di un sentiero\, in caso di
  impossibilità di un partecipante a continuare l’escursione.\nSi prega 
 inoltre di avvertire gli accompagnatori della presenza di eventuali patolo
 gie\, o di problematiche che potrebbero manifestarsi nel corso dell'escurs
 ione\, grazie per la collaborazione
ATTACH;FMTTYPE=image/jpeg:https://lazioeventi.com/wp-content/uploads/2023/
 09/vico.jpg
CATEGORIES:Sport, Tempo Libero e Divertimento nel Lazio
LOCATION:Ronciglione\, Comune di Ronciglione\, Ronciglione\, Viterbo\, Lazi
 o\, Italia
GEO:42.2913;12.2169
X-APPLE-STRUCTURED-LOCATION;VALUE=URI;X-ADDRESS=Comune di Ronciglione\, Ron
 ciglione\, Viterbo\, Lazio\, Italia;X-APPLE-RADIUS=100;X-TITLE=Ronciglione
 :geo:42.2913,12.2169
END:VEVENT
BEGIN:VTIMEZONE
TZID:Europe/Rome
X-LIC-LOCATION:Europe/Rome
BEGIN:DAYLIGHT
DTSTART:20230326T030000
TZOFFSETFROM:+0100
TZOFFSETTO:+0200
TZNAME:CEST
END:DAYLIGHT
END:VTIMEZONE
END:VCALENDAR