BEGIN:VCALENDAR
VERSION:2.0
PRODID:-//wp-events-plugin.com//7.2.3.1//EN
TZID:Europe/Rome
X-WR-TIMEZONE:Europe/Rome
BEGIN:VEVENT
UID:32000@lazioeventi.com
DTSTART;TZID=Europe/Rome:20220820T183000
DTEND;TZID=Europe/Rome:20220820T200000
DTSTAMP:20220812T091227Z
URL:https://lazioeventi.com/eventi/lallevatore-di-regine
SUMMARY:L'allevatore di regine - Caprarola - 20 Agosto 22 18:30
DESCRIPTION:"L'allevatore di regine" nella Riserva Naturale Lago di Vico\n\
 nUn suggestivo racconto-spettacolo immerso nella natura\, uno spettacolo p
 er tutte le età\nPartecipazione gratuita\, non è necessaria la prenotazi
 one - Informazioni www.parchilazio.it/vico\n\nAbbiamo ancora con noi gli a
 ttori della compagnia abruzzese "Teatro Lanciavicchio" in una suggestiva p
 ièce teatrale tra il tramonto e l'avvicinarsi delle ombre della sera.\n"L
 e api sono un popolo meraviglioso e un bene preziosissimo sul pianeta Terr
 a.\nPer questo è estremamente pericoloso perderle. Eppure\, è uno dei gr
 andi rischi che stiamo correndo: l’inquinamento ha un effetto devastante
  sulle api. Questo le manda in confusione: non riescono a ritrovare la str
 ada di casa\, si perdono e muoiono.\nAnche il vecchio Giacomo ha perso la 
 memoria.\n\nL’allevatore di regine è uno spettacolo che racconta di api
 \, faggete\, Alzheimer\, ma soprattutto di affetto\, meraviglia e storie d
 ’amore: quella di un’ape verso il suo fiore\, quella di una donna vers
 o un albero\, e di un vecchio uomo che sta per andarsene per tutto ciò ch
 e di prezioso ha intorno. Senza mai perdere il sorriso...".\n\nAutore\nFra
 ncesco Niccolini\n\ncon le Attrici Angie Cabrera e Rita Scognamiglio\n\nMu
 siche originali\nM°Giuseppe Morgante\n\nScenografie e costumi\nScenotecni
 ca ‘Ivan Medici’\n\nRegia\nAntonio SIlvagni\n\n-----------------------
 ---------------\n\nNota: Vivamente consigliate sdraiette o seggiole da spi
 aggia (non saranno presenti sedie dell'organizzazione).
ATTACH;FMTTYPE=image/jpeg:https://lazioeventi.com/wp-content/uploads/2022/
 08/regine_web.jpg
CATEGORIES:Musica, Spettacoli e Danza nel Lazio
LOCATION:Caprarola\, Comune di Caprarola\, Caprarola\, Viterbo\, Lazio\, It
 alia
GEO:42.3275;12.2381
X-APPLE-STRUCTURED-LOCATION;VALUE=URI;X-ADDRESS=Comune di Caprarola\, Capra
 rola\, Viterbo\, Lazio\, Italia;X-APPLE-RADIUS=100;X-TITLE=Caprarola:geo:4
 2.3275,12.2381
END:VEVENT
BEGIN:VTIMEZONE
TZID:Europe/Rome
X-LIC-LOCATION:Europe/Rome
BEGIN:DAYLIGHT
DTSTART:20220327T030000
TZOFFSETFROM:+0100
TZOFFSETTO:+0200
TZNAME:CEST
END:DAYLIGHT
END:VTIMEZONE
END:VCALENDAR