BEGIN:VCALENDAR
VERSION:2.0
PRODID:-//wp-events-plugin.com//7.2.3.1//EN
TZID:Europe/Rome
X-WR-TIMEZONE:Europe/Rome
BEGIN:VEVENT
UID:33739@lazioeventi.com
DTSTART;TZID=Europe/Rome:20230122T173000
DTEND;TZID=Europe/Rome:20230122T190000
DTSTAMP:20230110T102026Z
URL:https://lazioeventi.com/eventi/lamusica-jazz-sextet
SUMMARY:Lamusica Jazz Sextet - Albano Laziale - 22 Gennaio 23 17:30
DESCRIPTION:Lo swing nella canzone italiana d'autore\n\nFormazione:\nValent
 ina Viola Voce\nMarco Orfei Sax e Flauto\nMassimiliano Bossi Chitarra\nFra
 nco Canfora Pianoforte\nStefano Petrocco Contrabbasso e basso\nBob Baruffa
 ldi Batteria\n\nA cura dell'Associazione La Musica in collaborazione con l
 'Assessorato Cultura\, turismo e spettacolo\n
ATTACH;FMTTYPE=image/jpeg:https://lazioeventi.com/wp-content/uploads/2023/
 01/albano-jazz-loc.jpg
CATEGORIES:Musica, Spettacoli e Danza nel Lazio
LOCATION:Albano Laziale\, Comune\, Albano Laziale\, Roma\, Lazio\, Italia
GEO:41.7293;12.6588
X-APPLE-STRUCTURED-LOCATION;VALUE=URI;X-ADDRESS=Comune\, Albano Laziale\, R
 oma\, Lazio\, Italia;X-APPLE-RADIUS=100;X-TITLE=Albano Laziale:geo:41.7293
 ,12.6588
END:VEVENT
BEGIN:VTIMEZONE
TZID:Europe/Rome
X-LIC-LOCATION:Europe/Rome
BEGIN:STANDARD
DTSTART:20221030T020000
TZOFFSETFROM:+0200
TZOFFSETTO:+0100
TZNAME:CET
END:STANDARD
END:VTIMEZONE
END:VCALENDAR