BEGIN:VCALENDAR
VERSION:2.0
PRODID:-//wp-events-plugin.com//7.2.3.1//EN
TZID:Europe/Rome
X-WR-TIMEZONE:Europe/Rome
BEGIN:VEVENT
UID:41094@lazioeventi.com
DTSTART;TZID=Europe/Rome:20250406T160000
DTEND;TZID=Europe/Rome:20250406T180000
DTSTAMP:20250331T073003Z
URL:https://lazioeventi.com/eventi/lantico-cammino-del-giubileo-arte-fede-
 e-storia-visita-guidata
SUMMARY:L’antico Cammino del Giubileo – Arte\, Fede e Storia - Visita g
 uidata - Roma - 6 Aprile 25 16:00
DESCRIPTION:Un affascinante viaggio nel cuore di Roma\, seguendo il cammino
  storico e spirituale dei pellegrini che\, durante i Giubilei\, si dirigev
 ano verso la Basilica di San Pietro. In questo percorso\, rivivremo la tra
 dizione del pellegrinaggio “romeo”\, che nei secoli ha visto migliaia 
 di fedeli giungere a Roma per ricevere l’indulgenza giubilare. \nIl nost
 ro itinerario inizierà dalla pittoresca Via dei Coronari\, un tempo fulcr
 o del commercio religioso. Questa storica strada accoglieva i pellegrini c
 on le sue botteghe di articoli sacri. \n\nPercorrendo questa via\, scoprir
 emo il fascino dei vicoli romani e il legame indissolubile tra la città e
  la fede. Proseguiremo poi verso il maestoso Ponte Sant’Angelo\, costrui
 to dall’imperatore Adriano come accesso al suo mausoleo\, oggi noto come
  Castel Sant’Angelo. Il ponte è ornato dalle famose statue degli angeli
 \, realizzate da Gian Lorenzo Bernini. Qui\, i pellegrini si fermavano per
  un ultimo sguardo al fiume Tevere prima di proseguire verso il cuore dell
 a cristianità. \n\nDi fronte a noi si staglierà l’imponente Castel San
 t’Angelo che\, oltre alla sua funzione difensiva\, ha rappresentato un l
 uogo di passaggio per i pellegrini diretti alla Basilica di San Pietro\, s
 imbolo della protezione divina lungo il cammino. L’ultima tappa del nost
 ro percorso si concluderà con la straordinaria veduta esterna della Basil
 ica di San Pietro\, che accoglie pellegrini da tutto il mondo. Da qui\, si
  può ammirare la splendida Cupola di Michelangelo\, che svetta sopra la c
 ittà\, simbolo di speranza e redenzione per tutti coloro che giungono a R
 oma in cerca di perdono e spiritualità. \n\nUn viaggio nel tempo\, un’e
 sperienza di fede e storia. Un cammino che ci porterà a scoprire Roma sot
 to una luce nuova\, con una visione profonda della tradizione giubilare ch
 e ha plasmato la città nei secoli.\n\nPRENOTAZIONE OBBLIGATORIA ENTRO LE 
 ORE 16:00 DI SABATO 5 APRILE al seguente https://artistinaty.it/event/lant
 ico-cammino-del-giubileo/
ATTACH;FMTTYPE=image/jpeg:https://lazioeventi.com/wp-content/uploads/2025/
 03/locandina-Giubileo.jpg
CATEGORIES:Arte e Cultura nel Lazio
LOCATION:Roma\, Via Leopardi\, Roma\, Roma\, Lazio\, Italia
GEO:41.8942;12.5017
X-APPLE-STRUCTURED-LOCATION;VALUE=URI;X-ADDRESS=Via Leopardi\, Roma\, Roma\
 , Lazio\, Italia;X-APPLE-RADIUS=100;X-TITLE=Roma:geo:41.8942,12.5017
END:VEVENT
BEGIN:VTIMEZONE
TZID:Europe/Rome
X-LIC-LOCATION:Europe/Rome
BEGIN:DAYLIGHT
DTSTART:20250330T030000
TZOFFSETFROM:+0100
TZOFFSETTO:+0200
TZNAME:CEST
END:DAYLIGHT
END:VTIMEZONE
END:VCALENDAR