BEGIN:VCALENDAR
VERSION:2.0
PRODID:-//wp-events-plugin.com//7.2.3.1//EN
TZID:Europe/Rome
X-WR-TIMEZONE:Europe/Rome
BEGIN:VEVENT
UID:32255@lazioeventi.com
DTSTART;TZID=Europe/Rome:20220917T150000
DTEND;TZID=Europe/Rome:20220917T190000
DTSTAMP:20220908T110903Z
URL:https://lazioeventi.com/eventi/lanuvio-sporting-village
SUMMARY:Lanuvio Sporting Village - Lanuvio - 17 Settembre 22 15:00
DESCRIPTION:Lanuvio Sporting Village animerà le piazze cittadine di Lanuvi
 o sabato 10 e sabato 17 settembre.\n\nSi tratta di due giornate dedicate a
 llo sport\, in cui sarà possibile provare gli sport presenti sul territor
 io e assistere alle esibizioni di danza\, ritmica e pattinaggio. Sono prev
 iste\, inoltre\, presentazioni di associazioni del territorio e premiazion
 i di atleti che si sono distinti nella scorsa stagione.\n\nQuesti gli appu
 ntamenti:\n– Sabato 10 settembre\, ore 16\, piazza Enrico Berlinguer (Ca
 mpoleone)\;\n– Sabato 17 settembre\, ore 15\, Tranv-Villa Sforza (Lanuvi
 o).\n\nEsprime soddisfazione Valeria Viglietti\, vicesindaco e assessore a
 llo Sport del Comune di Lanuvio: “Ringrazio tutte le associazioni sporti
 ve per l’impegno profuso\, per aver garantito le attività in questi 2 a
 nni difficili e per aver permesso ai ragazzi di vivere quella socialità e
  quella integrazione troppo spesso negate. Un altro ‘grazie’ va agli a
 nimatori del Centro Sportivo Comunale\, che chiuderà i battenti sabato pr
 ossimo\, nel segno del tutto esaurito: un’iniziativa particolarmente app
 rezzata dalle famiglie lanuvine”.
ATTACH;FMTTYPE=image/jpeg:https://lazioeventi.com/wp-content/uploads/2022/
 09/sport-lanuvio.jpg
CATEGORIES:Sport, Tempo Libero e Divertimento nel Lazio,Varie
LOCATION:Lanuvio\, Comune\, Lanuvio\, Roma\, Lazio\, Italia
GEO:41.6758;12.6975
X-APPLE-STRUCTURED-LOCATION;VALUE=URI;X-ADDRESS=Comune\, Lanuvio\, Roma\, L
 azio\, Italia;X-APPLE-RADIUS=100;X-TITLE=Lanuvio:geo:41.6758,12.6975
END:VEVENT
BEGIN:VTIMEZONE
TZID:Europe/Rome
X-LIC-LOCATION:Europe/Rome
BEGIN:DAYLIGHT
DTSTART:20220327T030000
TZOFFSETFROM:+0100
TZOFFSETTO:+0200
TZNAME:CEST
END:DAYLIGHT
END:VTIMEZONE
END:VCALENDAR