BEGIN:VCALENDAR
VERSION:2.0
PRODID:-//wp-events-plugin.com//7.2.3.1//EN
TZID:Europe/Rome
X-WR-TIMEZONE:Europe/Rome
BEGIN:VEVENT
UID:34821@lazioeventi.com
DTSTART;TZID=Europe/Rome:20230402T090000
DTEND;TZID=Europe/Rome:20230402T200000
DTSTAMP:20230324T120657Z
URL:https://lazioeventi.com/eventi/larte-di-donare
SUMMARY:L’Arte di Donare - Cerveteri - 2 Aprile 23 09:00
DESCRIPTION:Arte e beneficenza domenica 2 aprile nei locali di Sala Ruspoli
  in Piazza Santa Maria a Cerveteri. L’artista Barbara Murgia organizza l
 ’evento “L’Arte di Donare”\, esposizione di quadri e opere pittori
 che che al termine della giornata saranno messi all’asta per raccogliere
  fondi a sostegno di due importantissime realtà di volontariato animalist
 a del territorio: Amore Randagio e S.O.S. Cuccioli.\n\nLa giovane artista 
 di Cerveteri esporrà in Sala Ruspoli le proprie opere insieme a quelle de
 ll’artista scomparso Angelo Camerino\, per una causa davvero nobile\, ov
 vero quella del mondo del volontariato animalista. \n\nA partire dalle ore
  09:00 sarà possibile visitare la mostra in maniera totalmente gratuita e
  poi alle ore 17:00 ci sarà un’asta i cui proventi saranno devoluti a d
 ue associazioni del nostro territorio che per gli animali svolgono un lavo
 ro davvero importantissimo. Al termine dell’asta un piccolo buffet per i
  partecipanti.\n\nL’invito a tutta la cittadinanza è quello di passare 
 a trovare Barbara e di dare sostegno a questa iniziativa davvero lodevole.
 \n\nPer informazioni ulteriori sull’iniziativa\, si può contattare il n
 umero 3337635363
ATTACH;FMTTYPE=image/jpeg:https://lazioeventi.com/wp-content/uploads/2023/
 03/arte-donare.jpg
CATEGORIES:Arte e Cultura nel Lazio,Varie
LOCATION:Cerveteri\, Comune di Cerveteri\, Cerveteri\, Roma\, Lazio\, Itali
 a
GEO:41.9938;12.0935
X-APPLE-STRUCTURED-LOCATION;VALUE=URI;X-ADDRESS=Comune di Cerveteri\, Cerve
 teri\, Roma\, Lazio\, Italia;X-APPLE-RADIUS=100;X-TITLE=Cerveteri:geo:41.9
 938,12.0935
END:VEVENT
BEGIN:VTIMEZONE
TZID:Europe/Rome
X-LIC-LOCATION:Europe/Rome
BEGIN:DAYLIGHT
DTSTART:20230326T030000
TZOFFSETFROM:+0100
TZOFFSETTO:+0200
TZNAME:CEST
END:DAYLIGHT
END:VTIMEZONE
END:VCALENDAR