BEGIN:VCALENDAR
VERSION:2.0
PRODID:-//wp-events-plugin.com//7.2.3.1//EN
TZID:Europe/Rome
X-WR-TIMEZONE:Europe/Rome
BEGIN:VEVENT
UID:36435@lazioeventi.com
DTSTART;TZID=Europe/Rome:20230818T190000
DTEND;TZID=Europe/Rome:20230820T234500
DTSTAMP:20230816T123751Z
URL:https://lazioeventi.com/eventi/lasotto-festival
SUMMARY:LaSotto Festival - Coreno Ausonio - 18 Agosto 23 19:00
DESCRIPTION:La quarta edizione del LaSotto Festival si svolgerà\, come di 
 consueto\, nel parco pubblico di Coreno Ausonio.\n\nSi comincerà il 18 ag
 osto\, con una serata Raggae. Si esibiranno i Papacalura in apertura a Bab
 aman\, con i Mattecelato Sound System in pre-apertura e chiusura.\n\nIl 19
  agosto si esibiranno gli Known Physics\, una band alt-rock umbra sulla ra
 mpa di lancio. \nA seguire il concerto degli Spazio Vasco\, tra le cover b
 and di Vasco più acclamate d'Italia.\n\nIl 20 agosto\, con il Color Run\,
  avremo il gran finale! Un'esplosione di musica e colori chiuderà il fest
 ival\, al quale seguirà un concerto di musica Country condotto dai Keet &
  More\, una band specialista del genere.\n\nNel parco troverete Stand gast
 ronomici e tante altre attività per divertirvi e rilassarvi.\n\nTutti i c
 oncerti sono gratuiti!
ATTACH;FMTTYPE=image/jpeg:https://lazioeventi.com/wp-content/uploads/2023/
 07/la-sotto-festival-coreno-ausonio.jpg
CATEGORIES:Musica, Spettacoli e Danza nel Lazio
LOCATION:Coreno Ausonio\, Comune\, Coreno Ausonio\, Frosinone\, Lazio\, Ita
 lia
GEO:41.3458;13.7777
X-APPLE-STRUCTURED-LOCATION;VALUE=URI;X-ADDRESS=Comune\, Coreno Ausonio\, F
 rosinone\, Lazio\, Italia;X-APPLE-RADIUS=100;X-TITLE=Coreno Ausonio:geo:41
 .3458,13.7777
END:VEVENT
BEGIN:VTIMEZONE
TZID:Europe/Rome
X-LIC-LOCATION:Europe/Rome
BEGIN:DAYLIGHT
DTSTART:20230326T030000
TZOFFSETFROM:+0100
TZOFFSETTO:+0200
TZNAME:CEST
END:DAYLIGHT
END:VTIMEZONE
END:VCALENDAR