BEGIN:VCALENDAR
VERSION:2.0
PRODID:-//wp-events-plugin.com//7.2.3.1//EN
TZID:Europe/Rome
X-WR-TIMEZONE:Europe/Rome
BEGIN:VEVENT
UID:37169@lazioeventi.com
DTSTART;TZID=Europe/Rome:20230929T180000
DTEND;TZID=Europe/Rome:20230929T200000
DTSTAMP:20230921T212752Z
URL:https://lazioeventi.com/eventi/laura-principi-presenta-il-romanzo-il-p
 rofumo-della-rosa
SUMMARY:Laura Principi presenta il romanzo "Il Profumo della Rosa" - Viterb
 o - 29 Settembre 23 18:00
DESCRIPTION:"...Perché una storia che non è storia\, che parla di miracol
 i che non sono miracoli\, non poteva che essere narrata da uno scrittore c
 he non è uno scrittore".\n\nLa Professoressa Laura Principi\, presenta il
  romanzo IL PROFUMO DELLA ROSA di Fausto Principi\, edito da Casa Editrice
  Serena\, Venerdì 29 Settembre 2023 alle ore 18.00 presso la Sala del '40
 0 del Monastero di Santa Rosa\, Viterbo.\n\nIntervengono: Angelo Russo\, a
 rtista e psicologo e Serena D'Orazi\, editore\, Enrico Concioli\, voce nar
 rante e il Trio Bonucci\, De Angelis e Ranucci per gli interventi musicali
 . \n\nIngresso libero.\n\nSinossi\nE fu sotto l'effetto di quella stessa s
 uggestione che iniziai la lettura del manoscritto. Vi era descritta una st
 rana storia\, raccontata dal vecchio in prima persona\, che parlava di mir
 acoli\, tutti da attribuirsi\, se ho ben capito\, a Santa Rosa. Lui stesso
 \, a quanto mi è sembrato\, si considerava un miracolato.\nQuesti miracol
 i\, che io ho cercato di estrarre dal contesto e ricostruirli in racconti 
 singoli\, riscrivendoli in terza persona\, sono però miracoli che molto d
 ifficilmente potrebbero essere ritenuti tali da un sacro collegio in un pr
 ocesso di santificazione. Ed è per questo\, credo\, che il vecchio abbia 
 voluto raccontarli ad una giuria più modesta\, meno addottrinata e meno s
 evera...
ATTACH;FMTTYPE=image/jpeg:https://lazioeventi.com/wp-content/uploads/2023/
 09/profumo-roma.jpg
CATEGORIES:Arte e Cultura nel Lazio
LOCATION:Viterbo\, Comune\, Viterbo\, Viterbo\, Lazio\, Italia
GEO:42.417;12.1051
X-APPLE-STRUCTURED-LOCATION;VALUE=URI;X-ADDRESS=Comune\, Viterbo\, Viterbo\
 , Lazio\, Italia;X-APPLE-RADIUS=100;X-TITLE=Viterbo:geo:42.417,12.1051
END:VEVENT
BEGIN:VTIMEZONE
TZID:Europe/Rome
X-LIC-LOCATION:Europe/Rome
BEGIN:DAYLIGHT
DTSTART:20230326T030000
TZOFFSETFROM:+0100
TZOFFSETTO:+0200
TZNAME:CEST
END:DAYLIGHT
END:VTIMEZONE
END:VCALENDAR